BEGIN:VCALENDAR
VERSION:2.0
PRODID:-//Treasure Valley Family YMCA - ECPv6.15.20//NONSGML v1.0//EN
CALSCALE:GREGORIAN
METHOD:PUBLISH
X-ORIGINAL-URL:https://ymcatvidaho.org
X-WR-CALDESC:Events for Treasure Valley Family YMCA
REFRESH-INTERVAL;VALUE=DURATION:PT1H
X-Robots-Tag:noindex
X-PUBLISHED-TTL:PT1H
BEGIN:VTIMEZONE
TZID:America/Boise
BEGIN:DAYLIGHT
TZOFFSETFROM:-0700
TZOFFSETTO:-0600
TZNAME:MDT
DTSTART:20240310T090000
END:DAYLIGHT
BEGIN:STANDARD
TZOFFSETFROM:-0600
TZOFFSETTO:-0700
TZNAME:MST
DTSTART:20241103T080000
END:STANDARD
BEGIN:DAYLIGHT
TZOFFSETFROM:-0700
TZOFFSETTO:-0600
TZNAME:MDT
DTSTART:20250309T090000
END:DAYLIGHT
BEGIN:STANDARD
TZOFFSETFROM:-0600
TZOFFSETTO:-0700
TZNAME:MST
DTSTART:20251102T080000
END:STANDARD
BEGIN:DAYLIGHT
TZOFFSETFROM:-0700
TZOFFSETTO:-0600
TZNAME:MDT
DTSTART:20260308T090000
END:DAYLIGHT
BEGIN:STANDARD
TZOFFSETFROM:-0600
TZOFFSETTO:-0700
TZNAME:MST
DTSTART:20261101T080000
END:STANDARD
END:VTIMEZONE
BEGIN:VEVENT
DTSTART;TZID=America/Boise:20250718T180000
DTEND;TZID=America/Boise:20250718T200000
DTSTAMP:20260423T155715
CREATED:20250517T024926Z
LAST-MODIFIED:20250517T030609Z
UID:10000366-1752861600-1752868800@ymcatvidaho.org
SUMMARY:Rooftop Movie Night
DESCRIPTION:Enjoy a movie under the stars with the whole family! Bring blankets\, snacks\, and settle in for a fun evening on the rooftop. \nJoin us Friday\, July 18\, from 6-8 PM at the Downtown Boise YMCA. Register here!
URL:https://ymcatvidaho.org/event/rooftop-movie-night/
LOCATION:Downtown Boise YMCA\, 1050 W State St\, Boise\, Boise\, ID\, 83702
CATEGORIES:Downtown Boise YMCA
ATTACH;FMTTYPE=image/png:https://ymcatvidaho.org/wp-content/uploads/2025/05/Rooftop-Movie-Night-Downtown-2.png
END:VEVENT
BEGIN:VEVENT
DTSTART;TZID=America/Boise:20250718T110000
DTEND;TZID=America/Boise:20250718T120000
DTSTAMP:20260423T155715
CREATED:20250709T155329Z
LAST-MODIFIED:20250709T155329Z
UID:10000389-1752836400-1752840000@ymcatvidaho.org
SUMMARY:Restorative Spine Workshop
DESCRIPTION:Join us for a Restorative Spine Workshop on Friday\, July 18\, from 11:00 AM – 12:00 PM at the Y Community Hub. \nWe hope to see you there!
URL:https://ymcatvidaho.org/event/restorative-spine-workshop-2/
LOCATION:Y Community Hub\, 805 W Franklin Street\, Boise\, ID\, 83702\, United States
CATEGORIES:ForeverWell (55+),Y Community Hub
ATTACH;FMTTYPE=image/png:https://ymcatvidaho.org/wp-content/uploads/2025/07/Restorative-Spine.png
END:VEVENT
BEGIN:VEVENT
DTSTART;TZID=America/Boise:20250716T180000
DTEND;TZID=America/Boise:20250716T200000
DTSTAMP:20260423T155715
CREATED:20250625T151123Z
LAST-MODIFIED:20250709T153540Z
UID:10000380-1752688800-1752696000@ymcatvidaho.org
SUMMARY:Family Cookie Decorating Contest
DESCRIPTION:Join us Wednesday\, July 16\, from 6-8 PM at the Tomlinson South Meridian YMCA for a family cookie decorating contest! \nGet creative (and a little messy!) in a fun-filled cookie decorating showdown. All ages welcome! \nWe hope to see you there!
URL:https://ymcatvidaho.org/event/family-cookie-decorating-contest/
LOCATION:Tomlinson South Meridian YMCA\, 5155 S Hillsdale Ave\, Meridian\, ID\, 83642\, United States
CATEGORIES:Tomlinson South Meridian YMCA
ATTACH;FMTTYPE=image/png:https://ymcatvidaho.org/wp-content/uploads/2025/06/Family-Cookie-Decorating-Contest-Tomlinson-1.png
END:VEVENT
BEGIN:VEVENT
DTSTART;VALUE=DATE:20250713
DTEND;VALUE=DATE:20250719
DTSTAMP:20260423T155715
CREATED:20250320T183119Z
LAST-MODIFIED:20250320T183119Z
UID:10000262-1752364800-1752883199@ymcatvidaho.org
SUMMARY:Summer Camp Week 6
DESCRIPTION:Summer overnight camp immerses children in a community where making friends is natural\, exploring new interests is encouraged\, and discovering inner strength is guaranteed. \nYMCA Camp at Horsethief Reservoir teaches self-reliance\, instills a love for nature and the outdoors\, and builds character and leadership–all amidst the fun of campfires\, canoeing\, archery\, friends\, zip-lining\, paddle boarding\, mentorships\, ropes course\, and so much more! \nWeek 6 is July 13-18. Register now!
URL:https://ymcatvidaho.org/event/summer-camp-week-6/
LOCATION:YMCA Camp at Horsethief Reservoir\, 301 Horsethief Rd\, Cascade\, 83611
CATEGORIES:Retreats & Events
END:VEVENT
BEGIN:VEVENT
DTSTART;TZID=America/Boise:20250712T090000
DTEND;TZID=America/Boise:20250712T170000
DTSTAMP:20260423T155715
CREATED:20250523T160035Z
LAST-MODIFIED:20250523T160035Z
UID:10000373-1752310800-1752339600@ymcatvidaho.org
SUMMARY:Idaho Stroller Strut supporting the Treasure Valley Family Y
DESCRIPTION:Get ready to roll at the Idaho Stroller Strut 5K\, a fun and family-friendly race supporting the Treasure Valley YMCA\, the Idaho Diaper Bank\, and the Treasure Valley Ronald McDonald House! Whether you’re pushing a stroller\, walking with friends\, or running for a cause\, this event is all about community\, fitness\, and giving back. \nYour participation helps raise funds for the YMCA’s programs while also supporting local families in need through our diaper drive and wishlist item collection. Bring a pack of diapers for the Idaho Diaper Bank or donate essential items for the Ronald McDonald House to make an even bigger impact! \nPlease bring an item from the following Ronald McDonald House Charity wish list to the registration table/bib pickup: \n1. Baby food\n2. Squeeze pouches for toddlers\n3. Snacks for toddlers\n4. Instant perinatal ice packs\n5. Lanolin nipple cream\n6. Witch hazel\n7. Perinatal squirt bottles\n8. Dermoplast spray \nAlternatively\, bring new\, unopened diapers sizes 3-6. All diaper donations will be distributed to struggling moms by the Idaho Diaper Bank. \nJoin us for a fun-filled morning of movement\, music\, and giving back—because every step (and every stroller) makes a difference! We hope to see you there on Saturday\, July 12\, 2025 at Kleiner Memorial Park!
URL:https://ymcatvidaho.org/event/idaho-stroller-strut-supporting-the-treasure-valley-family-y/
LOCATION:Kleiner Memorial Park\, 1900 N Records Ave\, Meridian\, 83642\, United States
CATEGORIES:Health and Wellness
ATTACH;FMTTYPE=image/png:https://ymcatvidaho.org/wp-content/uploads/2025/05/thumbnail_IG-Flyer-Idaho-Stroller-Strut-YMCA.png
END:VEVENT
BEGIN:VEVENT
DTSTART;TZID=America/Boise:20250711T173000
DTEND;TZID=America/Boise:20250711T190000
DTSTAMP:20260423T155715
CREATED:20250517T024232Z
LAST-MODIFIED:20250517T024232Z
UID:10000365-1752255000-1752260400@ymcatvidaho.org
SUMMARY:Family Trivia Night
DESCRIPTION:Test your knowledge and teamwork with fun\, family-friendly trivia questions! Compete\, laugh\, and learn together. \nJoin us Friday\, July 11\, from 5:30-7 PM at the Caldwell YMCA. Register here!
URL:https://ymcatvidaho.org/event/family-trivia-night/
LOCATION:Caldwell YMCA\, 3720 S Indiana Ave\, Caldwell\, United States
CATEGORIES:Caldwell YMCA
ATTACH;FMTTYPE=image/png:https://ymcatvidaho.org/wp-content/uploads/2025/05/Family-Trivia-Night-Caldwell.png
END:VEVENT
BEGIN:VEVENT
DTSTART;VALUE=DATE:20250706
DTEND;VALUE=DATE:20250712
DTSTAMP:20260423T155715
CREATED:20250320T182954Z
LAST-MODIFIED:20250320T182954Z
UID:10000261-1751760000-1752278399@ymcatvidaho.org
SUMMARY:Summer Camp Week 5
DESCRIPTION:Summer overnight camp immerses children in a community where making friends is natural\, exploring new interests is encouraged\, and discovering inner strength is guaranteed. \nYMCA Camp at Horsethief Reservoir teaches self-reliance\, instills a love for nature and the outdoors\, and builds character and leadership–all amidst the fun of campfires\, canoeing\, archery\, friends\, zip-lining\, paddle boarding\, mentorships\, ropes course\, and so much more! \nWeek 5 is July 6-11. Register now!
URL:https://ymcatvidaho.org/event/summer-camp-week-5/
LOCATION:YMCA Camp at Horsethief Reservoir\, 301 Horsethief Rd\, Cascade\, 83611
CATEGORIES:Retreats & Events
END:VEVENT
BEGIN:VEVENT
DTSTART;VALUE=DATE:20250703
DTEND;VALUE=DATE:20250706
DTSTAMP:20260423T155715
CREATED:20250403T201256Z
LAST-MODIFIED:20250403T201256Z
UID:10000269-1751500800-1751759999@ymcatvidaho.org
SUMMARY:4th of July Family Camp
DESCRIPTION:Why let kids have all the fun?! Stay in a cabin\, yurt\, platform tent\, or tent camp and join us for a weekend of adventure and community in the beautiful Idaho mountains! We provide all meals and activities while you and your family enjoy a fantastic getaway where you can do as much or as little as you like. \nOptional activities available at family camps include: archery\, zip line\, rock wall\, canoeing\, fishing\, sports\, arts and crafts\, cookie decorating\, campfires\, hiking\, mountain biking\, and more! (Swimming is weather dependent) \nRegister here: https://ymcatvidaho.org/horesthief-camp/fourth-of-july-family-camp/ \nHave a question? Connect with Daniel at daniel.alpers@ymcatvidaho.org or call at 208-344-5502 ext.856
URL:https://ymcatvidaho.org/event/4th-of-july-family-camp/
LOCATION:YMCA Camp at Horsethief Reservoir\, 301 Horsethief Rd\, Cascade\, 83611
CATEGORIES:Retreats & Events,Y Camp
END:VEVENT
BEGIN:VEVENT
DTSTART;VALUE=DATE:20250629
DTEND;VALUE=DATE:20250704
DTSTAMP:20260423T155715
CREATED:20250320T182756Z
LAST-MODIFIED:20250320T182756Z
UID:10000260-1751155200-1751587199@ymcatvidaho.org
SUMMARY:Summer Camp Week 4
DESCRIPTION:Summer overnight camp immerses children in a community where making friends is natural\, exploring new interests is encouraged\, and discovering inner strength is guaranteed. \nYMCA Camp at Horsethief Reservoir teaches self-reliance\, instills a love for nature and the outdoors\, and builds character and leadership–all amidst the fun of campfires\, canoeing\, archery\, friends\, zip-lining\, paddle boarding\, mentorships\, ropes course\, and so much more! \nWeek 4 is June 29-July 3. Register now!
URL:https://ymcatvidaho.org/event/summer-camp-week-4/
LOCATION:YMCA Camp at Horsethief Reservoir\, 301 Horsethief Rd\, Cascade\, 83611
CATEGORIES:Retreats & Events
END:VEVENT
BEGIN:VEVENT
DTSTART;TZID=America/Boise:20250627T170000
DTEND;TZID=America/Boise:20250627T190000
DTSTAMP:20260423T155715
CREATED:20250605T154153Z
LAST-MODIFIED:20250605T154153Z
UID:10000376-1751043600-1751050800@ymcatvidaho.org
SUMMARY:Family BINGO Night
DESCRIPTION:Bring the whole family for a night of laughs\, prizes\, and classic BINGO fun! All ages welcome—everyone has a chance to win! \nJoin us Friday\, June 27\, from 5-7 PM at the West Boise YMCA. \nWe hope to see you there!
URL:https://ymcatvidaho.org/event/family-bingo-night-3/
LOCATION:West Boise YMCA\, 5959 N Discovery Way\, Boise\, ID\, 83713
CATEGORIES:West Boise YMCA
ATTACH;FMTTYPE=image/png:https://ymcatvidaho.org/wp-content/uploads/2025/06/BINGO-West.png
END:VEVENT
BEGIN:VEVENT
DTSTART;VALUE=DATE:20250622
DTEND;VALUE=DATE:20250628
DTSTAMP:20260423T155715
CREATED:20250320T182619Z
LAST-MODIFIED:20250320T182619Z
UID:10000259-1750550400-1751068799@ymcatvidaho.org
SUMMARY:Summer Camp Week 3
DESCRIPTION:Summer overnight camp immerses children in a community where making friends is natural\, exploring new interests is encouraged\, and discovering inner strength is guaranteed. \nYMCA Camp at Horsethief Reservoir teaches self-reliance\, instills a love for nature and the outdoors\, and builds character and leadership–all amidst the fun of campfires\, canoeing\, archery\, friends\, zip-lining\, paddle boarding\, mentorships\, ropes course\, and so much more! \nWeek 3 is June 22-27. Register now!
URL:https://ymcatvidaho.org/event/summer-camp-week-3/
LOCATION:YMCA Camp at Horsethief Reservoir\, 301 Horsethief Rd\, Cascade\, 83611
CATEGORIES:Retreats & Events
END:VEVENT
BEGIN:VEVENT
DTSTART;TZID=America/Boise:20250620T180000
DTEND;TZID=America/Boise:20250620T200000
DTSTAMP:20260423T155715
CREATED:20250517T023950Z
LAST-MODIFIED:20250517T023950Z
UID:10000364-1750442400-1750449600@ymcatvidaho.org
SUMMARY:Family Swim Night
DESCRIPTION:Make a splash with an evening of swimming\, games\, and fun for the whole family! All ages welcome—come enjoy the pool together. \nJoin us Friday\, June 20\, from 6-8 PM at the Downtown Boise YMCA. Register here!
URL:https://ymcatvidaho.org/event/family-swim-night/
LOCATION:Downtown Boise YMCA\, 1050 W State St\, Boise\, Boise\, ID\, 83702
CATEGORIES:Downtown Boise YMCA
ATTACH;FMTTYPE=image/png:https://ymcatvidaho.org/wp-content/uploads/2025/05/Family-Swim-Night-Downtown-1.png
END:VEVENT
BEGIN:VEVENT
DTSTART;TZID=America/Boise:20250618T110000
DTEND;TZID=America/Boise:20250618T123000
DTSTAMP:20260423T155715
CREATED:20250609T163219Z
LAST-MODIFIED:20250609T163219Z
UID:10000377-1750244400-1750249800@ymcatvidaho.org
SUMMARY:Exploring AI Together with LEARN Idaho
DESCRIPTION:Join us Wednesday\, June 18\, from 11:00 a.m. – 12:15 p.m. at the YMCA Community Hub for a special class with LEARN Idaho: Exploring AI Together! \nExploring AI together will showcase how AI is involved in our everyday interactions online and will provide a comprehensive\, hands-on exploration of AI applications relevant to seniors’ daily lives. \nWe hope to see you there! Register here.
URL:https://ymcatvidaho.org/event/exploring-ai-together-with-learn-idaho/
LOCATION:Y Community Hub\, 805 W Franklin Street\, Boise\, ID\, 83702\, United States
CATEGORIES:ForeverWell (55+),Y Community Hub
ATTACH;FMTTYPE=image/png:https://ymcatvidaho.org/wp-content/uploads/2025/06/Exploring-AI-Together.png
END:VEVENT
BEGIN:VEVENT
DTSTART;VALUE=DATE:20250615
DTEND;VALUE=DATE:20250621
DTSTAMP:20260423T155715
CREATED:20250320T182439Z
LAST-MODIFIED:20250320T182439Z
UID:10000258-1749945600-1750463999@ymcatvidaho.org
SUMMARY:Summer Camp Week 2
DESCRIPTION:Summer overnight camp immerses children in a community where making friends is natural\, exploring new interests is encouraged\, and discovering inner strength is guaranteed. \nYMCA Camp at Horsethief Reservoir teaches self-reliance\, instills a love for nature and the outdoors\, and builds character and leadership–all amidst the fun of campfires\, canoeing\, archery\, friends\, zip-lining\, paddle boarding\, mentorships\, ropes course\, and so much more! \nWeek 2 is June 15-20. Register now!
URL:https://ymcatvidaho.org/event/summer-camp-week-2/
LOCATION:YMCA Camp at Horsethief Reservoir\, 301 Horsethief Rd\, Cascade\, 83611
CATEGORIES:Retreats & Events
END:VEVENT
BEGIN:VEVENT
DTSTART;TZID=America/Boise:20250613T180000
DTEND;TZID=America/Boise:20250613T200000
DTSTAMP:20260423T155715
CREATED:20250527T172420Z
LAST-MODIFIED:20250527T172420Z
UID:10000374-1749837600-1749844800@ymcatvidaho.org
SUMMARY:Family BINGO Night
DESCRIPTION:Bring the whole family for a night of laughs\, prizes\, and classic BINGO fun! All ages welcome—everyone has a chance to win!\n\nJoin us Friday\, June 13\, from 6-8 PM at the Tomlinson South Meridian YMCA. Register here!
URL:https://ymcatvidaho.org/event/family-bingo-night-2/
LOCATION:Tomlinson South Meridian YMCA\, 5155 S Hillsdale Ave\, Meridian\, ID\, 83642\, United States
CATEGORIES:Tomlinson South Meridian YMCA
ATTACH;FMTTYPE=image/png:https://ymcatvidaho.org/wp-content/uploads/2025/05/Family_BINGO_Night-Tomlinson.png
END:VEVENT
BEGIN:VEVENT
DTSTART;TZID=America/Boise:20250613T160000
DTEND;TZID=America/Boise:20250613T180000
DTSTAMP:20260423T155715
CREATED:20250517T023750Z
LAST-MODIFIED:20250517T023750Z
UID:10000363-1749830400-1749837600@ymcatvidaho.org
SUMMARY:Family STEM Night
DESCRIPTION:Explore science\, technology\, engineering\, and math through hands-on activities the whole family can enjoy. Build\, experiment\, and discover together! \nJoin us Friday\, June 13\, from 4-6 PM at the Caldwell YMCA. Register here!
URL:https://ymcatvidaho.org/event/family-stem-night/
LOCATION:Caldwell YMCA\, 3720 S Indiana Ave\, Caldwell\, United States
CATEGORIES:Caldwell YMCA
ATTACH;FMTTYPE=image/png:https://ymcatvidaho.org/wp-content/uploads/2025/05/Family-STEM-Night-Caldwell.png
END:VEVENT
BEGIN:VEVENT
DTSTART;TZID=America/Boise:20250612T180000
DTEND;TZID=America/Boise:20250612T193000
DTSTAMP:20260423T155715
CREATED:20250603T222450Z
LAST-MODIFIED:20250603T222450Z
UID:10000375-1749751200-1749756600@ymcatvidaho.org
SUMMARY:Downtown Boise: Health & Wellbeing Open House
DESCRIPTION:You’ve been asking! \nJoin Cliff Naumann\, V.P. and Chief Membership Officer\, and Mike Kapuscinski\, Downtown Boise YMCA Executive Director\, to learn more about your new CapEd Downtown Boise YMCA. The event format will be a presentation followed by plenty of time for Q&A. Content will specifically focus on Health & Wellbeing (the facility’s fitness features and amenities\, including cardio\, weights\, group exercise\, etc). \nJune 12th\, 6 PM at the Downtown YMCA \nRegistration is free and open to any Treasure Valley Family YMCA member\, and you must reserve your spot in advance. \nRegister here: https://runsignup.com/TicketEvent/CapEdDowntownBoiseYMCAMemberOpenHouse \nTo learn more about the project now: Click HERE \nFuture Open Houses will focus on Youth Programming and Aquatics.
URL:https://ymcatvidaho.org/event/downtown-boise-health-wellbeing-open-house/
LOCATION:Downtown Boise YMCA\, 1050 W State St\, Boise\, Boise\, ID\, 83702
CATEGORIES:Downtown Boise YMCA,Health and Wellness
ATTACH;FMTTYPE=image/png:https://ymcatvidaho.org/wp-content/uploads/2025/05/2025.05.01-Gym-Render-YMCA-Boise-scaled-e1746207276604.png
END:VEVENT
BEGIN:VEVENT
DTSTART;TZID=America/Boise:20250612T120000
DTEND;TZID=America/Boise:20250612T133000
DTSTAMP:20260423T155715
CREATED:20250609T163943Z
LAST-MODIFIED:20250609T163943Z
UID:10000378-1749729600-1749735000@ymcatvidaho.org
SUMMARY:Keeping Your Brain Sharp
DESCRIPTION:Join us Thursday\, June 12\, from 12:00 p.m. – 1:30 p.m. at the Y Community Hub to discuss essential nutrients to help prevent Alzheimer’s and dementia and which foods increase our risk. We will also discuss the benefits of eating Omega-3 fats and where to find them in foods. We hope to see you there! \nRegister here.
URL:https://ymcatvidaho.org/event/keeping-your-brain-sharp/
LOCATION:Y Community Hub\, 805 W Franklin Street\, Boise\, ID\, 83702\, United States
CATEGORIES:ForeverWell (55+),Y Community Hub
ATTACH;FMTTYPE=image/png:https://ymcatvidaho.org/wp-content/uploads/2025/06/KEEPING-YOUR-BRAIN-SHARP.png
END:VEVENT
BEGIN:VEVENT
DTSTART;VALUE=DATE:20250609
DTEND;VALUE=DATE:20250614
DTSTAMP:20260423T155715
CREATED:20250320T182117Z
LAST-MODIFIED:20250320T182117Z
UID:10000257-1749427200-1749859199@ymcatvidaho.org
SUMMARY:Summer Camp Week 1
DESCRIPTION:Summer overnight camp immerses children in a community where making friends is natural\, exploring new interests is encouraged\, and discovering inner strength is guaranteed. \nYMCA Camp at Horsethief Reservoir teaches self-reliance\, instills a love for nature and the outdoors\, and builds character and leadership–all amidst the fun of campfires\, canoeing\, archery\, friends\, zip-lining\, paddle boarding\, mentorships\, ropes course\, and so much more! \nWeek 1 is June 9-13. Register now!
URL:https://ymcatvidaho.org/event/summer-camp-week-1/
LOCATION:YMCA Camp at Horsethief Reservoir\, 301 Horsethief Rd\, Cascade\, 83611
CATEGORIES:Retreats & Events
END:VEVENT
BEGIN:VEVENT
DTSTART;TZID=America/Boise:20250604T113000
DTEND;TZID=America/Boise:20250604T133000
DTSTAMP:20260423T155715
CREATED:20250320T171431Z
LAST-MODIFIED:20250408T162246Z
UID:10000253-1749036600-1749043800@ymcatvidaho.org
SUMMARY:2025 YMCA Annual Meeting
DESCRIPTION:Join us on June 4\, 2025\, for the Treasure Valley Family YMCA  Annual Meeting! \nCelebrate our YMCA supporters and everything we have accomplished together this year! Check-in begins at 11:30 a.m. at the Boise Centre\, located at 805 W Front Street in Boise\, Idaho. \nTickets are available to purchase now! Don’t miss this inspirational event.
URL:https://ymcatvidaho.org/event/2025-ymca-annual-meeting/
LOCATION:Boise Centre\, 850 W Front Street\, Boise\, ID\, 83702\, United States
CATEGORIES:Philanthropy
ATTACH;FMTTYPE=image/jpeg:https://ymcatvidaho.org/wp-content/uploads/2025/03/Annual-Meeting-Web-Graphic-2025.jpg
END:VEVENT
BEGIN:VEVENT
DTSTART;TZID=America/Boise:20250603T113000
DTEND;TZID=America/Boise:20250603T133000
DTSTAMP:20260423T155715
CREATED:20260416T154818Z
LAST-MODIFIED:20260421T174806Z
UID:10000444-1748950200-1748957400@ymcatvidaho.org
SUMMARY:2026 YMCA Annual Meeting
DESCRIPTION:Join us on June 3\, 2026\, for the Treasure Valley Family YMCA  Annual Meeting!\nLocation: Boise Centre East – 805 W Front Street\nTime: Check-in begins at 11:30\, lunch and presentation follow from 12:00 – 1:30\nGather with us to celebrate the programs\, people\, and connections that make our Y unlike any other place. The luncheon and presentation will include Board and CEO remarks\, Service to Youth Awards\, Volunteer Awards\, and the Vern Emery Award presentation to our 2026 recipient\, Jerry Bauman.\nTickets are available to purchase now! Don’t miss this inspirational event.
URL:https://ymcatvidaho.org/event/2026-ymca-annual-meeting/
LOCATION:Boise Centre\, 850 W Front Street\, Boise\, ID\, 83702\, United States
CATEGORIES:Philanthropy
ATTACH;FMTTYPE=image/png:https://ymcatvidaho.org/wp-content/uploads/2026/04/2026-Annual-Meeting-Invite.png
END:VEVENT
BEGIN:VEVENT
DTSTART;VALUE=DATE:20250530
DTEND;VALUE=DATE:20250531
DTSTAMP:20260423T155715
CREATED:20250421T161504Z
LAST-MODIFIED:20250421T161504Z
UID:10000302-1748563200-1748649599@ymcatvidaho.org
SUMMARY:Y Camp Availability
DESCRIPTION:Y Camp is available for private groups\, rentals\, retreats\, and more on this date. Contact us to learn how you can reserve your own camp adventure!
URL:https://ymcatvidaho.org/event/y-camp-availability-29/
LOCATION:YMCA Camp at Horsethief Reservoir\, 301 Horsethief Rd\, Cascade\, 83611
CATEGORIES:Retreats & Events
ATTACH;FMTTYPE=image/png:https://ymcatvidaho.org/wp-content/uploads/2025/04/7.png
END:VEVENT
BEGIN:VEVENT
DTSTART;VALUE=DATE:20250529
DTEND;VALUE=DATE:20250530
DTSTAMP:20260423T155715
CREATED:20250421T161402Z
LAST-MODIFIED:20250421T161402Z
UID:10000301-1748476800-1748563199@ymcatvidaho.org
SUMMARY:Y Camp Availability
DESCRIPTION:Y Camp is available for private groups\, rentals\, retreats\, and more on this date. Contact us to learn how you can reserve your own camp adventure!
URL:https://ymcatvidaho.org/event/y-camp-availability-28/
LOCATION:YMCA Camp at Horsethief Reservoir\, 301 Horsethief Rd\, Cascade\, 83611
CATEGORIES:Retreats & Events
ATTACH;FMTTYPE=image/png:https://ymcatvidaho.org/wp-content/uploads/2025/04/1.png
END:VEVENT
BEGIN:VEVENT
DTSTART;VALUE=DATE:20250528
DTEND;VALUE=DATE:20250529
DTSTAMP:20260423T155715
CREATED:20250421T161253Z
LAST-MODIFIED:20250421T161253Z
UID:10000300-1748390400-1748476799@ymcatvidaho.org
SUMMARY:Y Camp Availability
DESCRIPTION:Y Camp is available for private groups\, rentals\, retreats\, and more on this date. Contact us to learn how you can reserve your own camp adventure!
URL:https://ymcatvidaho.org/event/y-camp-availability-27/
LOCATION:YMCA Camp at Horsethief Reservoir\, 301 Horsethief Rd\, Cascade\, 83611
CATEGORIES:Retreats & Events
ATTACH;FMTTYPE=image/png:https://ymcatvidaho.org/wp-content/uploads/2025/04/2.png
END:VEVENT
BEGIN:VEVENT
DTSTART;VALUE=DATE:20250527
DTEND;VALUE=DATE:20250528
DTSTAMP:20260423T155715
CREATED:20250421T161153Z
LAST-MODIFIED:20250421T161153Z
UID:10000299-1748304000-1748390399@ymcatvidaho.org
SUMMARY:Y Camp Availability
DESCRIPTION:Y Camp is available for private groups\, rentals\, retreats\, and more on this date. Contact us to learn how you can reserve your own camp adventure!
URL:https://ymcatvidaho.org/event/y-camp-availability-26/
LOCATION:YMCA Camp at Horsethief Reservoir\, 301 Horsethief Rd\, Cascade\, 83611
CATEGORIES:Retreats & Events
ATTACH;FMTTYPE=image/png:https://ymcatvidaho.org/wp-content/uploads/2025/04/3.png
END:VEVENT
BEGIN:VEVENT
DTSTART;VALUE=DATE:20250526
DTEND;VALUE=DATE:20250527
DTSTAMP:20260423T155715
CREATED:20250421T161058Z
LAST-MODIFIED:20250421T161058Z
UID:10000298-1748217600-1748303999@ymcatvidaho.org
SUMMARY:Y Camp Availability
DESCRIPTION:Y Camp is available for private groups\, rentals\, retreats\, and more on this date. Contact us to learn how you can reserve your own camp adventure!
URL:https://ymcatvidaho.org/event/y-camp-availability-25/
LOCATION:YMCA Camp at Horsethief Reservoir\, 301 Horsethief Rd\, Cascade\, 83611
CATEGORIES:Retreats & Events
ATTACH;FMTTYPE=image/png:https://ymcatvidaho.org/wp-content/uploads/2025/04/4.png
END:VEVENT
BEGIN:VEVENT
DTSTART;VALUE=DATE:20250523
DTEND;VALUE=DATE:20250527
DTSTAMP:20260423T155715
CREATED:20250403T201031Z
LAST-MODIFIED:20250403T201031Z
UID:10000268-1747958400-1748303999@ymcatvidaho.org
SUMMARY:Memorial Day Family Camp
DESCRIPTION:Why let kids have all the fun?! Stay in a cabin\, yurt\, platform tent\, or tent camp and join us for a weekend of adventure and community in the beautiful Idaho mountains! We provide all meals and activities while you and your family enjoy a fantastic getaway where you can do as much or as little as you like. \nOptional activities available at family camps include: archery\, zip line\, rock wall\, canoeing\, fishing\, sports\, arts and crafts\, cookie decorating\, campfires\, hiking\, mountain biking\, and more! (Swimming is weather dependent) \nRegister here: https://ymcatvidaho.org/horesthief-camp/memorial-day-family-camp/ \nHave a question? Connect with Daniel at daniel.alpers@ymcatvidaho.org or call at 208-344-5502 ext.85
URL:https://ymcatvidaho.org/event/memorial-day-family-camp/
LOCATION:YMCA Camp at Horsethief Reservoir\, 301 Horsethief Rd\, Cascade\, 83611
CATEGORIES:Retreats & Events,Y Camp
END:VEVENT
BEGIN:VEVENT
DTSTART;TZID=America/Boise:20250522T110000
DTEND;TZID=America/Boise:20250522T123000
DTSTAMP:20260423T155715
CREATED:20250501T164558Z
LAST-MODIFIED:20250501T164558Z
UID:10000361-1747911600-1747917000@ymcatvidaho.org
SUMMARY:Protect Yourself Online
DESCRIPTION:Stay Scam Savvy! Join us for an upbeat and eye-opening session designed to boost your confidence online. We’ll break down common scams targeting older adults—but more importantly\, you’ll learn how to spot the red flags before a scam strikes. No tech jargon\, just practical tips and real-life examples that will help you stay safe and in control. Let’s outsmart the scammers together! \nLearn more and register here: https://treasurevalley.recliquecore.com/programs/22526454/foreverwell-community-connections/#division_3860153
URL:https://ymcatvidaho.org/event/protect-yourself-online/
LOCATION:Y Community Hub\, 805 W Franklin Street\, Boise\, ID\, 83702\, United States
CATEGORIES:ForeverWell (55+),Y Community Hub
ATTACH;FMTTYPE=image/png:https://ymcatvidaho.org/wp-content/uploads/2025/05/Protect-Yourself-Online.png
END:VEVENT
BEGIN:VEVENT
DTSTART;VALUE=DATE:20250521
DTEND;VALUE=DATE:20250522
DTSTAMP:20260423T155715
CREATED:20250421T160941Z
LAST-MODIFIED:20250421T160941Z
UID:10000297-1747785600-1747871999@ymcatvidaho.org
SUMMARY:Y Camp Availability
DESCRIPTION:Y Camp is available for private groups\, rentals\, retreats\, and more on this date. Contact us to learn how you can reserve your own camp adventure!
URL:https://ymcatvidaho.org/event/y-camp-availability-24/
LOCATION:YMCA Camp at Horsethief Reservoir\, 301 Horsethief Rd\, Cascade\, 83611
CATEGORIES:Retreats & Events
ATTACH;FMTTYPE=image/png:https://ymcatvidaho.org/wp-content/uploads/2025/04/5.png
END:VEVENT
BEGIN:VEVENT
DTSTART;VALUE=DATE:20250520
DTEND;VALUE=DATE:20250521
DTSTAMP:20260423T155715
CREATED:20250421T160840Z
LAST-MODIFIED:20250421T160840Z
UID:10000296-1747699200-1747785599@ymcatvidaho.org
SUMMARY:Y Camp Availability
DESCRIPTION:Y Camp is available for private groups\, rentals\, retreats\, and more on this date. Contact us to learn how you can reserve your own camp adventure!
URL:https://ymcatvidaho.org/event/y-camp-availability-23/
LOCATION:YMCA Camp at Horsethief Reservoir\, 301 Horsethief Rd\, Cascade\, 83611
CATEGORIES:Retreats & Events
ATTACH;FMTTYPE=image/png:https://ymcatvidaho.org/wp-content/uploads/2025/04/6.png
END:VEVENT
END:VCALENDAR