BEGIN:VCALENDAR
VERSION:2.0
PRODID:-//Treasure Valley Family YMCA - ECPv6.15.20//NONSGML v1.0//EN
CALSCALE:GREGORIAN
METHOD:PUBLISH
X-WR-CALNAME:Treasure Valley Family YMCA
X-ORIGINAL-URL:https://ymcatvidaho.org
X-WR-CALDESC:Events for Treasure Valley Family YMCA
REFRESH-INTERVAL;VALUE=DURATION:PT1H
X-Robots-Tag:noindex
X-PUBLISHED-TTL:PT1H
BEGIN:VTIMEZONE
TZID:America/Boise
BEGIN:DAYLIGHT
TZOFFSETFROM:-0700
TZOFFSETTO:-0600
TZNAME:MDT
DTSTART:20240310T090000
END:DAYLIGHT
BEGIN:STANDARD
TZOFFSETFROM:-0600
TZOFFSETTO:-0700
TZNAME:MST
DTSTART:20241103T080000
END:STANDARD
BEGIN:DAYLIGHT
TZOFFSETFROM:-0700
TZOFFSETTO:-0600
TZNAME:MDT
DTSTART:20250309T090000
END:DAYLIGHT
BEGIN:STANDARD
TZOFFSETFROM:-0600
TZOFFSETTO:-0700
TZNAME:MST
DTSTART:20251102T080000
END:STANDARD
BEGIN:DAYLIGHT
TZOFFSETFROM:-0700
TZOFFSETTO:-0600
TZNAME:MDT
DTSTART:20260308T090000
END:DAYLIGHT
BEGIN:STANDARD
TZOFFSETFROM:-0600
TZOFFSETTO:-0700
TZNAME:MST
DTSTART:20261101T080000
END:STANDARD
END:VTIMEZONE
BEGIN:VEVENT
DTSTART;VALUE=DATE:20250527
DTEND;VALUE=DATE:20250528
DTSTAMP:20260423T185005
CREATED:20250421T161153Z
LAST-MODIFIED:20250421T161153Z
UID:10000299-1748304000-1748390399@ymcatvidaho.org
SUMMARY:Y Camp Availability
DESCRIPTION:Y Camp is available for private groups\, rentals\, retreats\, and more on this date. Contact us to learn how you can reserve your own camp adventure!
URL:https://ymcatvidaho.org/event/y-camp-availability-26/
LOCATION:YMCA Camp at Horsethief Reservoir\, 301 Horsethief Rd\, Cascade\, 83611
CATEGORIES:Retreats & Events
ATTACH;FMTTYPE=image/png:https://ymcatvidaho.org/wp-content/uploads/2025/04/3.png
END:VEVENT
BEGIN:VEVENT
DTSTART;VALUE=DATE:20250526
DTEND;VALUE=DATE:20250527
DTSTAMP:20260423T185005
CREATED:20250421T161058Z
LAST-MODIFIED:20250421T161058Z
UID:10000298-1748217600-1748303999@ymcatvidaho.org
SUMMARY:Y Camp Availability
DESCRIPTION:Y Camp is available for private groups\, rentals\, retreats\, and more on this date. Contact us to learn how you can reserve your own camp adventure!
URL:https://ymcatvidaho.org/event/y-camp-availability-25/
LOCATION:YMCA Camp at Horsethief Reservoir\, 301 Horsethief Rd\, Cascade\, 83611
CATEGORIES:Retreats & Events
ATTACH;FMTTYPE=image/png:https://ymcatvidaho.org/wp-content/uploads/2025/04/4.png
END:VEVENT
BEGIN:VEVENT
DTSTART;VALUE=DATE:20250523
DTEND;VALUE=DATE:20250527
DTSTAMP:20260423T185005
CREATED:20250403T201031Z
LAST-MODIFIED:20250403T201031Z
UID:10000268-1747958400-1748303999@ymcatvidaho.org
SUMMARY:Memorial Day Family Camp
DESCRIPTION:Why let kids have all the fun?! Stay in a cabin\, yurt\, platform tent\, or tent camp and join us for a weekend of adventure and community in the beautiful Idaho mountains! We provide all meals and activities while you and your family enjoy a fantastic getaway where you can do as much or as little as you like. \nOptional activities available at family camps include: archery\, zip line\, rock wall\, canoeing\, fishing\, sports\, arts and crafts\, cookie decorating\, campfires\, hiking\, mountain biking\, and more! (Swimming is weather dependent) \nRegister here: https://ymcatvidaho.org/horesthief-camp/memorial-day-family-camp/ \nHave a question? Connect with Daniel at daniel.alpers@ymcatvidaho.org or call at 208-344-5502 ext.85
URL:https://ymcatvidaho.org/event/memorial-day-family-camp/
LOCATION:YMCA Camp at Horsethief Reservoir\, 301 Horsethief Rd\, Cascade\, 83611
CATEGORIES:Retreats & Events,Y Camp
END:VEVENT
BEGIN:VEVENT
DTSTART;TZID=America/Boise:20250522T110000
DTEND;TZID=America/Boise:20250522T123000
DTSTAMP:20260423T185005
CREATED:20250501T164558Z
LAST-MODIFIED:20250501T164558Z
UID:10000361-1747911600-1747917000@ymcatvidaho.org
SUMMARY:Protect Yourself Online
DESCRIPTION:Stay Scam Savvy! Join us for an upbeat and eye-opening session designed to boost your confidence online. We’ll break down common scams targeting older adults—but more importantly\, you’ll learn how to spot the red flags before a scam strikes. No tech jargon\, just practical tips and real-life examples that will help you stay safe and in control. Let’s outsmart the scammers together! \nLearn more and register here: https://treasurevalley.recliquecore.com/programs/22526454/foreverwell-community-connections/#division_3860153
URL:https://ymcatvidaho.org/event/protect-yourself-online/
LOCATION:Y Community Hub\, 805 W Franklin Street\, Boise\, ID\, 83702\, United States
CATEGORIES:ForeverWell (55+),Y Community Hub
ATTACH;FMTTYPE=image/png:https://ymcatvidaho.org/wp-content/uploads/2025/05/Protect-Yourself-Online.png
END:VEVENT
BEGIN:VEVENT
DTSTART;VALUE=DATE:20250521
DTEND;VALUE=DATE:20250522
DTSTAMP:20260423T185005
CREATED:20250421T160941Z
LAST-MODIFIED:20250421T160941Z
UID:10000297-1747785600-1747871999@ymcatvidaho.org
SUMMARY:Y Camp Availability
DESCRIPTION:Y Camp is available for private groups\, rentals\, retreats\, and more on this date. Contact us to learn how you can reserve your own camp adventure!
URL:https://ymcatvidaho.org/event/y-camp-availability-24/
LOCATION:YMCA Camp at Horsethief Reservoir\, 301 Horsethief Rd\, Cascade\, 83611
CATEGORIES:Retreats & Events
ATTACH;FMTTYPE=image/png:https://ymcatvidaho.org/wp-content/uploads/2025/04/5.png
END:VEVENT
BEGIN:VEVENT
DTSTART;VALUE=DATE:20250520
DTEND;VALUE=DATE:20250521
DTSTAMP:20260423T185005
CREATED:20250421T160840Z
LAST-MODIFIED:20250421T160840Z
UID:10000296-1747699200-1747785599@ymcatvidaho.org
SUMMARY:Y Camp Availability
DESCRIPTION:Y Camp is available for private groups\, rentals\, retreats\, and more on this date. Contact us to learn how you can reserve your own camp adventure!
URL:https://ymcatvidaho.org/event/y-camp-availability-23/
LOCATION:YMCA Camp at Horsethief Reservoir\, 301 Horsethief Rd\, Cascade\, 83611
CATEGORIES:Retreats & Events
ATTACH;FMTTYPE=image/png:https://ymcatvidaho.org/wp-content/uploads/2025/04/6.png
END:VEVENT
BEGIN:VEVENT
DTSTART;VALUE=DATE:20250519
DTEND;VALUE=DATE:20250520
DTSTAMP:20260423T185005
CREATED:20250421T160738Z
LAST-MODIFIED:20250421T160738Z
UID:10000295-1747612800-1747699199@ymcatvidaho.org
SUMMARY:Y Camp Availability
DESCRIPTION:Y Camp is available for private groups\, rentals\, retreats\, and more on this date. Contact us to learn how you can reserve your own camp adventure!
URL:https://ymcatvidaho.org/event/y-camp-availability-22/
LOCATION:YMCA Camp at Horsethief Reservoir\, 301 Horsethief Rd\, Cascade\, 83611
CATEGORIES:Retreats & Events
ATTACH;FMTTYPE=image/png:https://ymcatvidaho.org/wp-content/uploads/2025/04/7.png
END:VEVENT
BEGIN:VEVENT
DTSTART;TZID=America/Boise:20250516T170000
DTEND;TZID=America/Boise:20250516T200000
DTSTAMP:20260423T185005
CREATED:20250507T165408Z
LAST-MODIFIED:20250513T165543Z
UID:10000362-1747414800-1747425600@ymcatvidaho.org
SUMMARY:Community Open House for Idaho Foster Families
DESCRIPTION:FREE Community Open House Night! \nLearn more about your local YMCA at our FREE community open house for Idaho foster families! Tour the Y facility\, meet the staff\, and see all the ways you and your family can get involved! \nJoin us at your local Y Friday\, May 16 from 5-8 PM \nWe can’t wait to see you and your family there!
URL:https://ymcatvidaho.org/event/community-open-house-for-idaho-foster-families/
CATEGORIES:Caldwell YMCA,Downtown Boise YMCA,Tomlinson South Meridian YMCA,West Boise YMCA
ATTACH;FMTTYPE=image/png:https://ymcatvidaho.org/wp-content/uploads/2025/05/Open-House.png
END:VEVENT
BEGIN:VEVENT
DTSTART;VALUE=DATE:20250516
DTEND;VALUE=DATE:20250519
DTSTAMP:20260423T185005
CREATED:20250403T200625Z
LAST-MODIFIED:20250403T200625Z
UID:10000267-1747353600-1747612799@ymcatvidaho.org
SUMMARY:THRIVE Family Camp
DESCRIPTION:This is a family camp particularly for our THRIVE families and community. Optional activities include zip lining\, rock climbing\, campfires\, arts and crafts\, canoeing\, nature walks\, archery\, and much more! \nRegister here: https://ymcatvidaho.org/horesthief-camp/thrive-family-camp/ \nHave a question? Connect with Daniel at daniel.alpers@ymcatvidaho.org or call at 208-344-5502 ext.856
URL:https://ymcatvidaho.org/event/thrive-family-camp/
LOCATION:YMCA Camp at Horsethief Reservoir\, 301 Horsethief Rd\, Cascade\, 83611
CATEGORIES:Retreats & Events,Y Camp
END:VEVENT
BEGIN:VEVENT
DTSTART;TZID=America/Boise:20250514T120000
DTEND;TZID=America/Boise:20250514T130000
DTSTAMP:20260423T185005
CREATED:20250501T164311Z
LAST-MODIFIED:20250501T164311Z
UID:10000360-1747224000-1747227600@ymcatvidaho.org
SUMMARY:Eating for Energy Plus Healthy Snacks
DESCRIPTION:Eating the right foods can give you enough energy to get through your busiest days. The right snacks vs the wrong snacks for your energy levels. Simple snack recipes that you can pack and take on the go. \nLearn more and register here: https://treasurevalley.recliquecore.com/programs/22526454/foreverwell-community-connections/#division_3860121
URL:https://ymcatvidaho.org/event/eating-for-energy-plus-healthy-snacks/
LOCATION:Y Community Hub\, 805 W Franklin Street\, Boise\, ID\, 83702\, United States
CATEGORIES:ForeverWell (55+),Y Community Hub
ATTACH;FMTTYPE=image/png:https://ymcatvidaho.org/wp-content/uploads/2025/05/Eating-for-Energy.png
END:VEVENT
BEGIN:VEVENT
DTSTART;VALUE=DATE:20250509
DTEND;VALUE=DATE:20250512
DTSTAMP:20260423T185005
CREATED:20250403T200426Z
LAST-MODIFIED:20250403T200426Z
UID:10000266-1746748800-1747007999@ymcatvidaho.org
SUMMARY:Our Own Family Camp
DESCRIPTION:We are excited to bring Our Own Family Camp\, a camp for Families of the Down syndrome community to Idaho! Our goal is to offer a camp for families to come up and JUST BE A FAMILY! Leave your diagnosis at the gate\, all the pressures of IEPs\, therapies and everything else\, and be able to bond as a family\, forming lasting relationships with other families in the Down Syndrome community! \nAll our traditional programs will be available\, with a few others focused around encouraging families to network and create community around collaboration and understanding. Please be aware\, in this family camp we will be running things a little differently than our other Y Camp family camp. Please let us know if you have another family you are interested in bunking with\, otherwise families will be sharing spaces in assigned cabins. \n*Please note\, our camp property is very large and navigating camp can involve extended walking distances. If this presents an issue for your family\, please reach out to us. \nRegister here: https://ymcatvidaho.org/horesthief-camp/our-own-family-camp/ \nHave a question? Connect with Daniel at daniel.alpers@ymcatvidaho.org or call at 208-344-5502 ext.856
URL:https://ymcatvidaho.org/event/our-own-family-camp/
LOCATION:YMCA Camp at Horsethief Reservoir\, 301 Horsethief Rd\, Cascade\, 83611
CATEGORIES:Retreats & Events,Y Camp
END:VEVENT
BEGIN:VEVENT
DTSTART;VALUE=DATE:20250509
DTEND;VALUE=DATE:20250510
DTSTAMP:20260423T185005
CREATED:20250421T160602Z
LAST-MODIFIED:20250421T160602Z
UID:10000294-1746748800-1746835199@ymcatvidaho.org
SUMMARY:Y Camp Availability
DESCRIPTION:Y Camp is available for private groups\, rentals\, retreats\, and more on this date. Contact us to learn how you can reserve your own camp adventure!
URL:https://ymcatvidaho.org/event/y-camp-availability-21/
LOCATION:YMCA Camp at Horsethief Reservoir\, 301 Horsethief Rd\, Cascade\, 83611
CATEGORIES:Retreats & Events
ATTACH;FMTTYPE=image/png:https://ymcatvidaho.org/wp-content/uploads/2025/04/1.png
END:VEVENT
BEGIN:VEVENT
DTSTART;VALUE=DATE:20250508
DTEND;VALUE=DATE:20250509
DTSTAMP:20260423T185005
CREATED:20250421T160500Z
LAST-MODIFIED:20250421T160500Z
UID:10000293-1746662400-1746748799@ymcatvidaho.org
SUMMARY:Y Camp Availability
DESCRIPTION:Y Camp is available for private groups\, rentals\, retreats\, and more on this date. Contact us to learn how you can reserve your own camp adventure!
URL:https://ymcatvidaho.org/event/y-camp-availability-20/
LOCATION:YMCA Camp at Horsethief Reservoir\, 301 Horsethief Rd\, Cascade\, 83611
CATEGORIES:Retreats & Events
ATTACH;FMTTYPE=image/png:https://ymcatvidaho.org/wp-content/uploads/2025/04/2.png
END:VEVENT
BEGIN:VEVENT
DTSTART;TZID=America/Boise:20250507T130000
DTEND;TZID=America/Boise:20250507T140000
DTSTAMP:20260423T185005
CREATED:20250501T164032Z
LAST-MODIFIED:20250501T164032Z
UID:10000359-1746622800-1746626400@ymcatvidaho.org
SUMMARY:Lifestyle is Medicine with Dr. Jennifer T. Shalz\, MD
DESCRIPTION:“Lifestyle is Medicine” will review how certain health behaviors cause chronic disease through increasing inflammation. Dr. Shalz will discuss solutions to lower inflammation through lifestyle changes to enjoy improved well-being and longevity. \nLearn more and register here: https://treasurevalley.recliquecore.com/programs/22526454/foreverwell-community-connections/#division_3860137
URL:https://ymcatvidaho.org/event/lifestyle-is-medicine-with-dr-jennifer-t-shalz-md/
LOCATION:Tomlinson South Meridian YMCA\, 5155 S Hillsdale Ave\, Meridian\, ID\, 83642\, United States
CATEGORIES:ForeverWell (55+),Tomlinson South Meridian YMCA
ATTACH;FMTTYPE=image/png:https://ymcatvidaho.org/wp-content/uploads/2025/05/Lifestyle-is-Medicine.png
END:VEVENT
BEGIN:VEVENT
DTSTART;VALUE=DATE:20250507
DTEND;VALUE=DATE:20250508
DTSTAMP:20260423T185005
CREATED:20250421T160337Z
LAST-MODIFIED:20250421T160337Z
UID:10000292-1746576000-1746662399@ymcatvidaho.org
SUMMARY:Y Camp Availability
DESCRIPTION:Y Camp is available for private groups\, rentals\, retreats\, and more on this date. Contact us to learn how you can reserve your own camp adventure!
URL:https://ymcatvidaho.org/event/y-camp-availability-19/
LOCATION:YMCA Camp at Horsethief Reservoir\, 301 Horsethief Rd\, Cascade\, 83611
CATEGORIES:Retreats & Events
ATTACH;FMTTYPE=image/png:https://ymcatvidaho.org/wp-content/uploads/2025/04/3.png
END:VEVENT
BEGIN:VEVENT
DTSTART;VALUE=DATE:20250506
DTEND;VALUE=DATE:20250507
DTSTAMP:20260423T185005
CREATED:20250421T160139Z
LAST-MODIFIED:20250421T160139Z
UID:10000291-1746489600-1746575999@ymcatvidaho.org
SUMMARY:Y Camp Availability
DESCRIPTION:Y Camp is available for private groups\, rentals\, retreats\, and more on this date. Contact us to learn how you can reserve your own camp adventure!
URL:https://ymcatvidaho.org/event/y-camp-availability-18/
LOCATION:YMCA Camp at Horsethief Reservoir\, 301 Horsethief Rd\, Cascade\, 83611
CATEGORIES:Retreats & Events
ATTACH;FMTTYPE=image/png:https://ymcatvidaho.org/wp-content/uploads/2025/04/4.png
END:VEVENT
BEGIN:VEVENT
DTSTART;VALUE=DATE:20250505
DTEND;VALUE=DATE:20250506
DTSTAMP:20260423T185005
CREATED:20250421T160026Z
LAST-MODIFIED:20250421T160026Z
UID:10000290-1746403200-1746489599@ymcatvidaho.org
SUMMARY:Y Camp Availability
DESCRIPTION:Y Camp is available for private groups\, rentals\, retreats\, and more on this date. Contact us to learn how you can reserve your own camp adventure!
URL:https://ymcatvidaho.org/event/y-camp-availability-17/
LOCATION:YMCA Camp at Horsethief Reservoir\, 301 Horsethief Rd\, Cascade\, 83611
CATEGORIES:Retreats & Events
ATTACH;FMTTYPE=image/png:https://ymcatvidaho.org/wp-content/uploads/2025/04/5.png
END:VEVENT
BEGIN:VEVENT
DTSTART;VALUE=DATE:20250504
DTEND;VALUE=DATE:20250505
DTSTAMP:20260423T185005
CREATED:20250421T155850Z
LAST-MODIFIED:20250421T155850Z
UID:10000289-1746316800-1746403199@ymcatvidaho.org
SUMMARY:Y Camp Availability
DESCRIPTION:Y Camp is available for private groups\, rentals\, retreats\, and more on this date. Contact us to learn how you can reserve your own camp adventure!
URL:https://ymcatvidaho.org/event/y-camp-availability-16/
LOCATION:YMCA Camp at Horsethief Reservoir\, 301 Horsethief Rd\, Cascade\, 83611
CATEGORIES:Retreats & Events
ATTACH;FMTTYPE=image/png:https://ymcatvidaho.org/wp-content/uploads/2025/04/6.png
END:VEVENT
BEGIN:VEVENT
DTSTART;VALUE=DATE:20250503
DTEND;VALUE=DATE:20250504
DTSTAMP:20260423T185005
CREATED:20250421T155751Z
LAST-MODIFIED:20250421T155751Z
UID:10000288-1746230400-1746316799@ymcatvidaho.org
SUMMARY:Y Camp Availability
DESCRIPTION:Y Camp is available for private groups\, rentals\, retreats\, and more on this date. Contact us to learn how you can reserve your own camp adventure!
URL:https://ymcatvidaho.org/event/y-camp-availability-15/
LOCATION:YMCA Camp at Horsethief Reservoir\, 301 Horsethief Rd\, Cascade\, 83611
CATEGORIES:Retreats & Events
ATTACH;FMTTYPE=image/png:https://ymcatvidaho.org/wp-content/uploads/2025/04/7.png
END:VEVENT
BEGIN:VEVENT
DTSTART;VALUE=DATE:20250502
DTEND;VALUE=DATE:20250503
DTSTAMP:20260423T185005
CREATED:20250421T155636Z
LAST-MODIFIED:20250421T155636Z
UID:10000287-1746144000-1746230399@ymcatvidaho.org
SUMMARY:Y Camp Availability
DESCRIPTION:Y Camp is available for private groups\, rentals\, retreats\, and more on this date. Contact us to learn how you can reserve your own camp adventure!
URL:https://ymcatvidaho.org/event/y-camp-availability-14/
LOCATION:YMCA Camp at Horsethief Reservoir\, 301 Horsethief Rd\, Cascade\, 83611
CATEGORIES:Retreats & Events
ATTACH;FMTTYPE=image/png:https://ymcatvidaho.org/wp-content/uploads/2025/04/1.png
END:VEVENT
BEGIN:VEVENT
DTSTART;VALUE=DATE:20250501
DTEND;VALUE=DATE:20250502
DTSTAMP:20260423T185005
CREATED:20250421T155516Z
LAST-MODIFIED:20250421T155516Z
UID:10000286-1746057600-1746143999@ymcatvidaho.org
SUMMARY:Y Camp Availability
DESCRIPTION:Y Camp is available for private groups\, rentals\, retreats\, and more on this date. Contact us to learn how you can reserve your own camp adventure!
URL:https://ymcatvidaho.org/event/y-camp-availability-13/
LOCATION:YMCA Camp at Horsethief Reservoir\, 301 Horsethief Rd\, Cascade\, 83611
CATEGORIES:Retreats & Events
ATTACH;FMTTYPE=image/png:https://ymcatvidaho.org/wp-content/uploads/2025/04/2.png
END:VEVENT
BEGIN:VEVENT
DTSTART;VALUE=DATE:20250430
DTEND;VALUE=DATE:20250501
DTSTAMP:20260423T185005
CREATED:20250421T155411Z
LAST-MODIFIED:20250421T155411Z
UID:10000285-1745971200-1746057599@ymcatvidaho.org
SUMMARY:Y Camp Availability
DESCRIPTION:Y Camp is available for private groups\, rentals\, retreats\, and more on this date. Contact us to learn how you can reserve your own camp adventure!
URL:https://ymcatvidaho.org/event/y-camp-availability-12/
LOCATION:YMCA Camp at Horsethief Reservoir\, 301 Horsethief Rd\, Cascade\, 83611
CATEGORIES:Retreats & Events
ATTACH;FMTTYPE=image/png:https://ymcatvidaho.org/wp-content/uploads/2025/04/3.png
END:VEVENT
BEGIN:VEVENT
DTSTART;VALUE=DATE:20250429
DTEND;VALUE=DATE:20250430
DTSTAMP:20260423T185005
CREATED:20250421T155249Z
LAST-MODIFIED:20250421T155249Z
UID:10000284-1745884800-1745971199@ymcatvidaho.org
SUMMARY:Y Camp Availability
DESCRIPTION:Y Camp is available for private groups\, rentals\, retreats\, and more on this date. Contact us to learn how you can reserve your own camp adventure!
URL:https://ymcatvidaho.org/event/y-camp-availability-11/
LOCATION:YMCA Camp at Horsethief Reservoir\, 301 Horsethief Rd\, Cascade\, 83611
CATEGORIES:Retreats & Events
ATTACH;FMTTYPE=image/png:https://ymcatvidaho.org/wp-content/uploads/2025/04/4.png
END:VEVENT
BEGIN:VEVENT
DTSTART;TZID=America/Boise:20250428T050000
DTEND;TZID=America/Boise:20250428T130000
DTSTAMP:20260423T185005
CREATED:20250409T163853Z
LAST-MODIFIED:20250409T163853Z
UID:10000273-1745816400-1745845200@ymcatvidaho.org
SUMMARY:2025 Treasure Valley Family YMCA Spin-a-thon
DESCRIPTION:The 2025 Spin-a-thon is in support of Idaho Gives Day in effort to raise awareness and funds for our Annual Campaign. YMCA staff\, volunteers\, members and community partners will ride on Monday\, April 28\, 2025\, from 5 AM-1 PM\n\nJoin us at ANY Treasure Valley YMCA facility!
URL:https://ymcatvidaho.org/event/2025-treasure-valley-family-ymca-spin-a-thon/
CATEGORIES:Caldwell YMCA,Downtown Boise YMCA,Tomlinson South Meridian YMCA,West Boise YMCA
ATTACH;FMTTYPE=image/png:https://ymcatvidaho.org/wp-content/uploads/2025/04/Social-1.png
END:VEVENT
BEGIN:VEVENT
DTSTART;VALUE=DATE:20250428
DTEND;VALUE=DATE:20250429
DTSTAMP:20260423T185005
CREATED:20250417T151652Z
LAST-MODIFIED:20250417T151652Z
UID:10000283-1745798400-1745884799@ymcatvidaho.org
SUMMARY:Y Camp Availability
DESCRIPTION:Y Camp is available for private groups\, rentals\, retreats\, and more on this date. Contact us to learn how you can reserve your own camp adventure!
URL:https://ymcatvidaho.org/event/y-camp-availability-10/
LOCATION:YMCA Camp at Horsethief Reservoir\, 301 Horsethief Rd\, Cascade\, 83611
CATEGORIES:Retreats & Events
ATTACH;FMTTYPE=image/png:https://ymcatvidaho.org/wp-content/uploads/2025/04/5.png
END:VEVENT
BEGIN:VEVENT
DTSTART;TZID=America/Boise:20250426T080000
DTEND;TZID=America/Boise:20250426T170000
DTSTAMP:20260423T185005
CREATED:20241204T171457Z
LAST-MODIFIED:20241204T171457Z
UID:10000235-1745654400-1745686800@ymcatvidaho.org
SUMMARY:Healthy Kids Day 2025
DESCRIPTION:Save the date for Healthy Kids Day – April 26\, 2025!  \nThe Treasure Valley Family YMCA is hosting the Y’s annual Healthy Kids Day® on April 26\, 2025 located at all 4 Treasure Valley locations. This free\, annual event features a variety of family-friendly activities to encourage healthy kids\, healthy families and a healthy start to the summer season.
URL:https://ymcatvidaho.org/event/healthy-kids-day-2025/
LOCATION:Caldwell YMCA\, 3720 S Indiana Ave\, Caldwell\, United States
CATEGORIES:All Facilities
ATTACH;FMTTYPE=image/png:https://ymcatvidaho.org/wp-content/uploads/2024/12/Healthy-Kids-Day-25-e1733332366242.png
END:VEVENT
BEGIN:VEVENT
DTSTART;VALUE=DATE:20250425
DTEND;VALUE=DATE:20250428
DTSTAMP:20260423T185005
CREATED:20250104T000046Z
LAST-MODIFIED:20250104T000046Z
UID:10000240-1745539200-1745798399@ymcatvidaho.org
SUMMARY:Women's Wellness Weekend 1
DESCRIPTION:Join us for an unforgettable Women’s Wellness Weekend of relaxation\, adventure\, and fellowship in the beautiful Idaho mountains at Y Camp at Horsethief Reservoir!\n\nRegistration is NOW OPEN April 25-27\, 2025! We hope you join us!\n\nRegister here: https://tvfy.info/4h3Z7l7
URL:https://ymcatvidaho.org/event/womens-wellness-weekend-1/
LOCATION:YMCA Camp at Horsethief Reservoir\, 301 Horsethief Rd\, Cascade\, 83611
CATEGORIES:Y Camp
ATTACH;FMTTYPE=image/png:https://ymcatvidaho.org/wp-content/uploads/2025/01/New-dates.png
END:VEVENT
BEGIN:VEVENT
DTSTART;VALUE=DATE:20250424
DTEND;VALUE=DATE:20250425
DTSTAMP:20260423T185005
CREATED:20250417T151505Z
LAST-MODIFIED:20250417T151505Z
UID:10000282-1745452800-1745539199@ymcatvidaho.org
SUMMARY:Y Camp Availability
DESCRIPTION:Y Camp is available for private groups\, rentals\, retreats\, and more on this date. Contact us to learn how you can reserve your own camp adventure!
URL:https://ymcatvidaho.org/event/y-camp-availability-9/
LOCATION:YMCA Camp at Horsethief Reservoir\, 301 Horsethief Rd\, Cascade\, 83611
CATEGORIES:Retreats & Events
ATTACH;FMTTYPE=image/png:https://ymcatvidaho.org/wp-content/uploads/2025/04/6.png
END:VEVENT
BEGIN:VEVENT
DTSTART;VALUE=DATE:20250423
DTEND;VALUE=DATE:20250424
DTSTAMP:20260423T185005
CREATED:20250417T151403Z
LAST-MODIFIED:20250417T151403Z
UID:10000281-1745366400-1745452799@ymcatvidaho.org
SUMMARY:Y Camp Availability
DESCRIPTION:Y Camp is available for private groups\, rentals\, retreats\, and more on this date. Contact us to learn how you can reserve your own camp adventure!
URL:https://ymcatvidaho.org/event/y-camp-availability-8/
LOCATION:YMCA Camp at Horsethief Reservoir\, 301 Horsethief Rd\, Cascade\, 83611
CATEGORIES:Retreats & Events
ATTACH;FMTTYPE=image/png:https://ymcatvidaho.org/wp-content/uploads/2025/04/7.png
END:VEVENT
BEGIN:VEVENT
DTSTART;VALUE=DATE:20250422
DTEND;VALUE=DATE:20250423
DTSTAMP:20260423T185005
CREATED:20250417T151247Z
LAST-MODIFIED:20250417T151247Z
UID:10000280-1745280000-1745366399@ymcatvidaho.org
SUMMARY:Y Camp Availability
DESCRIPTION:Y Camp is available for private groups\, rentals\, retreats\, and more on this date. Contact us to learn how you can reserve your own camp adventure!
URL:https://ymcatvidaho.org/event/y-camp-availability-7/
LOCATION:YMCA Camp at Horsethief Reservoir\, 301 Horsethief Rd\, Cascade\, 83611
CATEGORIES:Retreats & Events
ATTACH;FMTTYPE=image/png:https://ymcatvidaho.org/wp-content/uploads/2025/04/1.png
END:VEVENT
END:VCALENDAR