BEGIN:VCALENDAR
VERSION:2.0
PRODID:-//Treasure Valley Family YMCA - ECPv6.15.20//NONSGML v1.0//EN
CALSCALE:GREGORIAN
METHOD:PUBLISH
X-ORIGINAL-URL:https://ymcatvidaho.org
X-WR-CALDESC:Events for Treasure Valley Family YMCA
REFRESH-INTERVAL;VALUE=DURATION:PT1H
X-Robots-Tag:noindex
X-PUBLISHED-TTL:PT1H
BEGIN:VTIMEZONE
TZID:America/Boise
BEGIN:DAYLIGHT
TZOFFSETFROM:-0700
TZOFFSETTO:-0600
TZNAME:MDT
DTSTART:20230312T090000
END:DAYLIGHT
BEGIN:STANDARD
TZOFFSETFROM:-0600
TZOFFSETTO:-0700
TZNAME:MST
DTSTART:20231105T080000
END:STANDARD
BEGIN:DAYLIGHT
TZOFFSETFROM:-0700
TZOFFSETTO:-0600
TZNAME:MDT
DTSTART:20240310T090000
END:DAYLIGHT
BEGIN:STANDARD
TZOFFSETFROM:-0600
TZOFFSETTO:-0700
TZNAME:MST
DTSTART:20241103T080000
END:STANDARD
BEGIN:DAYLIGHT
TZOFFSETFROM:-0700
TZOFFSETTO:-0600
TZNAME:MDT
DTSTART:20250309T090000
END:DAYLIGHT
BEGIN:STANDARD
TZOFFSETFROM:-0600
TZOFFSETTO:-0700
TZNAME:MST
DTSTART:20251102T080000
END:STANDARD
BEGIN:DAYLIGHT
TZOFFSETFROM:-0700
TZOFFSETTO:-0600
TZNAME:MDT
DTSTART:20260308T090000
END:DAYLIGHT
BEGIN:STANDARD
TZOFFSETFROM:-0600
TZOFFSETTO:-0700
TZNAME:MST
DTSTART:20261101T080000
END:STANDARD
END:VTIMEZONE
BEGIN:VTIMEZONE
TZID:UTC
BEGIN:STANDARD
TZOFFSETFROM:+0000
TZOFFSETTO:+0000
TZNAME:UTC
DTSTART:20230101T000000
END:STANDARD
END:VTIMEZONE
BEGIN:VEVENT
DTSTART;VALUE=DATE:20250428
DTEND;VALUE=DATE:20250429
DTSTAMP:20260423T214202
CREATED:20250417T151652Z
LAST-MODIFIED:20250417T151652Z
UID:10000283-1745798400-1745884799@ymcatvidaho.org
SUMMARY:Y Camp Availability
DESCRIPTION:Y Camp is available for private groups\, rentals\, retreats\, and more on this date. Contact us to learn how you can reserve your own camp adventure!
URL:https://ymcatvidaho.org/event/y-camp-availability-10/
LOCATION:YMCA Camp at Horsethief Reservoir\, 301 Horsethief Rd\, Cascade\, 83611
CATEGORIES:Retreats & Events
ATTACH;FMTTYPE=image/png:https://ymcatvidaho.org/wp-content/uploads/2025/04/5.png
END:VEVENT
BEGIN:VEVENT
DTSTART;TZID=America/Boise:20250426T080000
DTEND;TZID=America/Boise:20250426T170000
DTSTAMP:20260423T214202
CREATED:20241204T171457Z
LAST-MODIFIED:20241204T171457Z
UID:10000235-1745654400-1745686800@ymcatvidaho.org
SUMMARY:Healthy Kids Day 2025
DESCRIPTION:Save the date for Healthy Kids Day – April 26\, 2025!  \nThe Treasure Valley Family YMCA is hosting the Y’s annual Healthy Kids Day® on April 26\, 2025 located at all 4 Treasure Valley locations. This free\, annual event features a variety of family-friendly activities to encourage healthy kids\, healthy families and a healthy start to the summer season.
URL:https://ymcatvidaho.org/event/healthy-kids-day-2025/
LOCATION:Caldwell YMCA\, 3720 S Indiana Ave\, Caldwell\, United States
CATEGORIES:All Facilities
ATTACH;FMTTYPE=image/png:https://ymcatvidaho.org/wp-content/uploads/2024/12/Healthy-Kids-Day-25-e1733332366242.png
END:VEVENT
BEGIN:VEVENT
DTSTART;VALUE=DATE:20250425
DTEND;VALUE=DATE:20250428
DTSTAMP:20260423T214202
CREATED:20250104T000046Z
LAST-MODIFIED:20250104T000046Z
UID:10000240-1745539200-1745798399@ymcatvidaho.org
SUMMARY:Women's Wellness Weekend 1
DESCRIPTION:Join us for an unforgettable Women’s Wellness Weekend of relaxation\, adventure\, and fellowship in the beautiful Idaho mountains at Y Camp at Horsethief Reservoir!\n\nRegistration is NOW OPEN April 25-27\, 2025! We hope you join us!\n\nRegister here: https://tvfy.info/4h3Z7l7
URL:https://ymcatvidaho.org/event/womens-wellness-weekend-1/
LOCATION:YMCA Camp at Horsethief Reservoir\, 301 Horsethief Rd\, Cascade\, 83611
CATEGORIES:Y Camp
ATTACH;FMTTYPE=image/png:https://ymcatvidaho.org/wp-content/uploads/2025/01/New-dates.png
END:VEVENT
BEGIN:VEVENT
DTSTART;VALUE=DATE:20250424
DTEND;VALUE=DATE:20250425
DTSTAMP:20260423T214202
CREATED:20250417T151505Z
LAST-MODIFIED:20250417T151505Z
UID:10000282-1745452800-1745539199@ymcatvidaho.org
SUMMARY:Y Camp Availability
DESCRIPTION:Y Camp is available for private groups\, rentals\, retreats\, and more on this date. Contact us to learn how you can reserve your own camp adventure!
URL:https://ymcatvidaho.org/event/y-camp-availability-9/
LOCATION:YMCA Camp at Horsethief Reservoir\, 301 Horsethief Rd\, Cascade\, 83611
CATEGORIES:Retreats & Events
ATTACH;FMTTYPE=image/png:https://ymcatvidaho.org/wp-content/uploads/2025/04/6.png
END:VEVENT
BEGIN:VEVENT
DTSTART;VALUE=DATE:20250423
DTEND;VALUE=DATE:20250424
DTSTAMP:20260423T214202
CREATED:20250417T151403Z
LAST-MODIFIED:20250417T151403Z
UID:10000281-1745366400-1745452799@ymcatvidaho.org
SUMMARY:Y Camp Availability
DESCRIPTION:Y Camp is available for private groups\, rentals\, retreats\, and more on this date. Contact us to learn how you can reserve your own camp adventure!
URL:https://ymcatvidaho.org/event/y-camp-availability-8/
LOCATION:YMCA Camp at Horsethief Reservoir\, 301 Horsethief Rd\, Cascade\, 83611
CATEGORIES:Retreats & Events
ATTACH;FMTTYPE=image/png:https://ymcatvidaho.org/wp-content/uploads/2025/04/7.png
END:VEVENT
BEGIN:VEVENT
DTSTART;VALUE=DATE:20250422
DTEND;VALUE=DATE:20250423
DTSTAMP:20260423T214202
CREATED:20250417T151247Z
LAST-MODIFIED:20250417T151247Z
UID:10000280-1745280000-1745366399@ymcatvidaho.org
SUMMARY:Y Camp Availability
DESCRIPTION:Y Camp is available for private groups\, rentals\, retreats\, and more on this date. Contact us to learn how you can reserve your own camp adventure!
URL:https://ymcatvidaho.org/event/y-camp-availability-7/
LOCATION:YMCA Camp at Horsethief Reservoir\, 301 Horsethief Rd\, Cascade\, 83611
CATEGORIES:Retreats & Events
ATTACH;FMTTYPE=image/png:https://ymcatvidaho.org/wp-content/uploads/2025/04/1.png
END:VEVENT
BEGIN:VEVENT
DTSTART;VALUE=DATE:20250421
DTEND;VALUE=DATE:20250422
DTSTAMP:20260423T214202
CREATED:20250417T151147Z
LAST-MODIFIED:20250417T151147Z
UID:10000279-1745193600-1745279999@ymcatvidaho.org
SUMMARY:Y Camp Availability
DESCRIPTION:Y Camp is available for private groups\, rentals\, retreats\, and more on this date. Contact us to learn how you can reserve your own camp adventure!
URL:https://ymcatvidaho.org/event/y-camp-availability-6/
LOCATION:YMCA Camp at Horsethief Reservoir\, 301 Horsethief Rd\, Cascade\, 83611
CATEGORIES:Retreats & Events
ATTACH;FMTTYPE=image/png:https://ymcatvidaho.org/wp-content/uploads/2025/04/2.png
END:VEVENT
BEGIN:VEVENT
DTSTART;VALUE=DATE:20250420
DTEND;VALUE=DATE:20250421
DTSTAMP:20260423T214202
CREATED:20250417T151031Z
LAST-MODIFIED:20250417T151031Z
UID:10000278-1745107200-1745193599@ymcatvidaho.org
SUMMARY:Y Camp Availability
DESCRIPTION:Y Camp is available for private groups\, rentals\, retreats\, and more on this date. Contact us to learn how you can reserve your own camp adventure!
URL:https://ymcatvidaho.org/event/y-camp-availability-5/
LOCATION:YMCA Camp at Horsethief Reservoir\, 301 Horsethief Rd\, Cascade\, 83611
CATEGORIES:Retreats & Events
ATTACH;FMTTYPE=image/png:https://ymcatvidaho.org/wp-content/uploads/2025/04/3.png
END:VEVENT
BEGIN:VEVENT
DTSTART;VALUE=DATE:20250419
DTEND;VALUE=DATE:20250420
DTSTAMP:20260423T214202
CREATED:20250417T150921Z
LAST-MODIFIED:20250417T150921Z
UID:10000277-1745020800-1745107199@ymcatvidaho.org
SUMMARY:Y Camp Availability
DESCRIPTION:Y Camp is available for private groups\, rentals\, retreats\, and more on this date. Contact us to learn how you can reserve your own camp adventure!
URL:https://ymcatvidaho.org/event/y-camp-availability-4/
LOCATION:YMCA Camp at Horsethief Reservoir\, 301 Horsethief Rd\, Cascade\, 83611
CATEGORIES:Retreats & Events
ATTACH;FMTTYPE=image/png:https://ymcatvidaho.org/wp-content/uploads/2025/04/4.png
END:VEVENT
BEGIN:VEVENT
DTSTART;TZID=America/Boise:20250418T120000
DTEND;TZID=America/Boise:20250418T130000
DTSTAMP:20260423T214202
CREATED:20250409T163442Z
LAST-MODIFIED:20250409T163442Z
UID:10000272-1744977600-1744981200@ymcatvidaho.org
SUMMARY:Nutrition Tips for a Healthy 2025
DESCRIPTION:Join us on Friday\, April 18\, from 12-1 PM at the YMCA Community Hub to learn about the top nutrition tips to start the year off making healthy food choices! We will also be debunking nutrition tips that continue to persist.\n\nRegister here: https://tvfy.info/nutrition-tips
URL:https://ymcatvidaho.org/event/nutrition-tips-for-a-healthy-2025/
LOCATION:Y Community Hub\, 805 W Franklin Street\, Boise\, ID\, 83702\, United States
CATEGORIES:ForeverWell (55+),Y Community Hub
ATTACH;FMTTYPE=image/jpeg:https://ymcatvidaho.org/wp-content/uploads/2025/04/489857030_1072029548286112_1546135960217363969_n.jpg
END:VEVENT
BEGIN:VEVENT
DTSTART;VALUE=DATE:20250418
DTEND;VALUE=DATE:20250419
DTSTAMP:20260423T214202
CREATED:20250417T150657Z
LAST-MODIFIED:20250417T150657Z
UID:10000276-1744934400-1745020799@ymcatvidaho.org
SUMMARY:Y Camp Availability
DESCRIPTION:Y Camp is available for private groups\, rentals\, retreats\, and more on this date. Contact us to learn how you can reserve your own camp adventure!
URL:https://ymcatvidaho.org/event/y-camp-availability-3/
LOCATION:YMCA Camp at Horsethief Reservoir\, 301 Horsethief Rd\, Cascade\, 83611
CATEGORIES:Retreats & Events
ATTACH;FMTTYPE=image/png:https://ymcatvidaho.org/wp-content/uploads/2025/04/5.png
END:VEVENT
BEGIN:VEVENT
DTSTART;VALUE=DATE:20250417
DTEND;VALUE=DATE:20250418
DTSTAMP:20260423T214202
CREATED:20250417T150523Z
LAST-MODIFIED:20250417T150523Z
UID:10000275-1744848000-1744934399@ymcatvidaho.org
SUMMARY:Y Camp Availability
DESCRIPTION:Y Camp is available for private groups\, rentals\, retreats\, and more on this date. Contact us to learn how you can reserve your own camp adventure!
URL:https://ymcatvidaho.org/event/y-camp-availability-2/
LOCATION:YMCA Camp at Horsethief Reservoir\, 301 Horsethief Rd\, Cascade\, 83611
CATEGORIES:Retreats & Events
ATTACH;FMTTYPE=image/png:https://ymcatvidaho.org/wp-content/uploads/2025/04/6.png
END:VEVENT
BEGIN:VEVENT
DTSTART;VALUE=DATE:20250415
DTEND;VALUE=DATE:20250416
DTSTAMP:20260423T214202
CREATED:20250415T153650Z
LAST-MODIFIED:20250415T154023Z
UID:10000274-1744675200-1744761599@ymcatvidaho.org
SUMMARY:Y Camp Availability
DESCRIPTION:Y Camp is available for private groups\, rentals\, retreats\, and more on this date. Contact us to learn how you can reserve your own camp adventure!
URL:https://ymcatvidaho.org/event/y-camp-availability/
LOCATION:YMCA Camp at Horsethief Reservoir\, 301 Horsethief Rd\, Cascade\, 83611
CATEGORIES:Retreats & Events
ATTACH;FMTTYPE=image/png:https://ymcatvidaho.org/wp-content/uploads/2025/04/7.png
END:VEVENT
BEGIN:VEVENT
DTSTART;TZID=America/Boise:20250412T100000
DTEND;TZID=America/Boise:20250412T140000
DTSTAMP:20260423T214202
CREATED:20250319T202524Z
LAST-MODIFIED:20250319T202524Z
UID:10000256-1744452000-1744466400@ymcatvidaho.org
SUMMARY:AdaptABLE Foundation's Inclusive Community Easter Egg Hunt
DESCRIPTION:Join us for the 2025 AdaptABLE Foundation’s Adaptive Easter Egg Hunt\, hosted at the Tomlinson South Meridian YMCA! This event is open to the entire community with a focus on providing opportunities for our adaptive community to participate fully. \nThe event will be at the Tomlinson Y from 10 a.m. to noon on Saturday\, April 12. The Easter Egg Hut will start at 11 a.m. \nClick here to register! While the event is free to attend\, we appreciate registrations so we will know who to expect. \nIf you are interested in volunteering for this or other AdaptABLE Foundation events\, you can also fill out the registration form. \nAbout the AdaptABLE Foundation:\nThe AdaptABLE mission is to improve the lives of individuals with adaptive needs by providing them with the resources\, tools\, and support they need to achieve their full potential. We strive to promote inclusion\, dignity\, and independence for all people\, regardless of their abilities\, and to ensure that they are valued and respected members of our community.
URL:https://ymcatvidaho.org/event/inclusive-easter-egg-hunt/
LOCATION:Tomlinson South Meridian YMCA\, 5155 S Hillsdale Ave\, Meridian\, ID\, 83642\, United States
CATEGORIES:Community Events,THRIVE,Tomlinson South Meridian YMCA
ATTACH;FMTTYPE=image/jpeg:https://ymcatvidaho.org/wp-content/uploads/2025/03/IMG_5620-scaled-e1742415822584.jpeg
END:VEVENT
BEGIN:VEVENT
DTSTART;TZID=America/Boise:20250402T090000
DTEND;TZID=America/Boise:20250402T110000
DTSTAMP:20260423T214202
CREATED:20250225T192010Z
LAST-MODIFIED:20250225T192010Z
UID:10000251-1743584400-1743591600@ymcatvidaho.org
SUMMARY:Senior Athlete Fitness Exams
DESCRIPTION:Senior Athlete Fitness Exams – FREE Physical Fitness Screening Wednesday\, April 2nd from 9:00 -11:00 AM at the YMCA Community Hub.\n\n*Please sign up to let us know you’re coming but appointments are drop-in style between these hours.*\n\nClinicians with St. Luke’s and the National Senior Games Association will be onsite preforming Cardiovascular\, Muscular\, Flexibility\, and Balance Fitness evaluations. The exams will take around 15-20 minutes and will provide you numbers around these important markers with education material to follow.\n\nLearn more here: https://nsga.com/healthygames/\n\nRegister here: https://tvfy.info/4kqx5Tk
URL:https://ymcatvidaho.org/event/senior-athlete-fitness-exams/
LOCATION:Y Community Hub\, 805 W Franklin Street\, Boise\, ID\, 83702\, United States
CATEGORIES:ForeverWell (55+),Y Community Hub
ATTACH;FMTTYPE=image/png:https://ymcatvidaho.org/wp-content/uploads/2025/02/SAFE.png
END:VEVENT
BEGIN:VEVENT
DTSTART;TZID=America/Boise:20250401T160000
DTEND;TZID=America/Boise:20250401T190000
DTSTAMP:20260423T214202
CREATED:20250319T184359Z
LAST-MODIFIED:20250319T184359Z
UID:10000254-1743523200-1743534000@ymcatvidaho.org
SUMMARY:Strong Families\, Safe Kids Fair
DESCRIPTION:Join us Tuesday\, April 1\, from 4-7 PM at the Tomlinson South Meridian YMCA for the Strong Families\, Safe Kids Fair! \nThis event will feature FREE activities and resources\, as well as community connections\, a food truck\, and a special kick off from local mayors and elected officials. A BIG thank you to D.L. Evans Bank for sponsoring this event! \nWe hope to see you there soon!
URL:https://ymcatvidaho.org/event/strong-families-safe-kids-fair/
LOCATION:Tomlinson South Meridian YMCA\, 5155 S Hillsdale Ave\, Meridian\, ID\, 83642\, United States
CATEGORIES:Tomlinson South Meridian YMCA
ATTACH;FMTTYPE=image/jpeg:https://ymcatvidaho.org/wp-content/uploads/2025/03/thumbnail_StrongFamilies_Social.jpg
END:VEVENT
BEGIN:VEVENT
DTSTART;TZID=America/Boise:20250401T124500
DTEND;TZID=America/Boise:20250401T153000
DTSTAMP:20260423T214202
CREATED:20250319T184828Z
LAST-MODIFIED:20250319T184828Z
UID:10000255-1743511500-1743521400@ymcatvidaho.org
SUMMARY:Darkness to Light: Stewards of Children
DESCRIPTION:Darkness to Light’s flagship training\, Stewards of Children®\, teaches adults practical actions they can take to reduce instances of child sexual abuse in their organizations\, families\, and communities. Stewards of Children® is one of the only award-winning\, evidence-informed\, adult-focused child sexual abuse prevention trainings in the United States proven to increase knowledge and change behavior. \nCourse is free and open to the public\, but registration is required and seats are limited. Join us April 1\, from 12:45-3:30 PM at the Tomlinson South Meridian YMCA. \nRegister here!
URL:https://ymcatvidaho.org/event/darkness-to-light-stewards-of-children/
LOCATION:Tomlinson South Meridian YMCA\, 5155 S Hillsdale Ave\, Meridian\, ID\, 83642\, United States
CATEGORIES:Tomlinson South Meridian YMCA
ATTACH;FMTTYPE=image/jpeg:https://ymcatvidaho.org/wp-content/uploads/2025/03/thumbnail_Darkness-to-Light_Social.jpg
END:VEVENT
BEGIN:VEVENT
DTSTART;TZID=America/Boise:20250328T093000
DTEND;TZID=America/Boise:20250328T103000
DTSTAMP:20260423T214202
CREATED:20250225T191746Z
LAST-MODIFIED:20250225T191746Z
UID:10000250-1743154200-1743157800@ymcatvidaho.org
SUMMARY:Grow Your Own Superfood
DESCRIPTION:GROW YOUR OWN SUPERFOOD!\n\nJoin us for a Sprouting Microgreen Workshop on Friday\, March 28th from 9:30-10:30 AM at the YMCA Community Hub\, located at 805 W. Franklin Street\, Boise\, Idaho\, 83702.\n\nLooking for a fresh way to boost your meals? In this hands-on class\, you’ll discover how simple it is to grow nutrient-packed sprouts in your own kitchen. No garden required! Bring your curiosity and leave with the know-how to get sprouting. Fresh. Nutritious. Homegrown. Sprouting microgreens is an easy way to add vitamins and minerals to your diet. Join us for a fun and informative class where you’ll learn to grow your own sprouts at home—no green thumb needed!\n\nRegister online! https://tvfy.info/3XgDF4K
URL:https://ymcatvidaho.org/event/grow-your-own-superfood/
LOCATION:Y Community Hub\, 805 W Franklin Street\, Boise\, ID\, 83702\, United States
CATEGORIES:ForeverWell (55+),Y Community Hub
ATTACH;FMTTYPE=image/png:https://ymcatvidaho.org/wp-content/uploads/2025/02/Grow-Your-Own-Superfood.png
END:VEVENT
BEGIN:VEVENT
DTSTART;TZID=America/Boise:20250321T110000
DTEND;TZID=America/Boise:20250321T120000
DTSTAMP:20260423T214202
CREATED:20250304T215523Z
LAST-MODIFIED:20250304T215523Z
UID:10000252-1742554800-1742558400@ymcatvidaho.org
SUMMARY:Restorative Spine Workshop
DESCRIPTION:A small-group class designed for those recovering from back injuries or looking to improve posture with safe\, effective core exercises.
URL:https://ymcatvidaho.org/event/restorative-spine-workshop/
LOCATION:Y Community Hub\, 805 W Franklin Street\, Boise\, ID\, 83702\, United States
CATEGORIES:ForeverWell (55+),Y Community Hub
ATTACH;FMTTYPE=image/png:https://ymcatvidaho.org/wp-content/uploads/2025/03/Restorative-Spine-Workshop.png
END:VEVENT
BEGIN:VEVENT
DTSTART;TZID=America/Boise:20250319T110000
DTEND;TZID=America/Boise:20250319T120000
DTSTAMP:20260423T214202
CREATED:20250225T191537Z
LAST-MODIFIED:20250225T191537Z
UID:10000249-1742382000-1742385600@ymcatvidaho.org
SUMMARY:Cooking Under Pressure
DESCRIPTION:Cooking Under Pressure Presented by Bridget Morrisroe-Miller with the University of Idaho Extension Office\n\nJoin us Wednesday\, March 19th from 11:00 AM -12:00 PM at the YMCA Community Hub located at 805 West. Franklin Street\, Boise\, Idaho\, 83702.\n\nCome learn how to use your electronic pressure cookers and find out how these can help with ease and convenience for meal times. The presentation will share some helpful tips and tricks along with safety guidelines. Recipe sharing and samples will be provided.\n\nRegister online: https://tvfy.info/4egF3db
URL:https://ymcatvidaho.org/event/cooking-under-pressure/
LOCATION:Y Community Hub\, 805 W Franklin Street\, Boise\, ID\, 83702\, United States
CATEGORIES:ForeverWell (55+),Y Community Hub
ATTACH;FMTTYPE=image/png:https://ymcatvidaho.org/wp-content/uploads/2025/02/Cooking-Under-Pressure.png
END:VEVENT
BEGIN:VEVENT
DTSTART;TZID=America/Boise:20250311T180000
DTEND;TZID=America/Boise:20250311T190000
DTSTAMP:20260423T214202
CREATED:20250207T201324Z
LAST-MODIFIED:20250207T201324Z
UID:10000248-1741716000-1741719600@ymcatvidaho.org
SUMMARY:Y Camp Open House Night
DESCRIPTION:Learn more about Y Camp and meet some of our awesome camp staff while enjoying a FREE dinner!\n\nTo RSVP or learn more\, please email daniel.alpers@ymcatvidaho.org
URL:https://ymcatvidaho.org/event/y-camp-open-house-night-2/
LOCATION:Y Community Hub\, 805 W Franklin Street\, Boise\, ID\, 83702\, United States
CATEGORIES:Y Camp,Y Community Hub
ATTACH;FMTTYPE=image/png:https://ymcatvidaho.org/wp-content/uploads/2025/02/Open-House-1.png
END:VEVENT
BEGIN:VEVENT
DTSTART;TZID=America/Boise:20250219T090000
DTEND;TZID=America/Boise:20250219T120000
DTSTAMP:20260423T214202
CREATED:20250207T195730Z
LAST-MODIFIED:20250207T195730Z
UID:10000246-1739955600-1739966400@ymcatvidaho.org
SUMMARY:Treefort Music Festival Swag Bag
DESCRIPTION:Would you like to be a part of Boise Treefort Music Festival? The YMCA Community HUB is hosting a unique artistic outlet for all levels of creative souls. Treefort Music Festival provides paper swag bags for each musician that performs at the festival\, and they want YOU to design them! \nThe only rule with the project is that the band name is incorporated into your design.
URL:https://ymcatvidaho.org/event/treefort-music-festival-swag-bag/
LOCATION:Y Community Hub\, 805 W Franklin Street\, Boise\, ID\, 83702\, United States
CATEGORIES:ForeverWell (55+),Y Community Hub
ATTACH;FMTTYPE=image/png:https://ymcatvidaho.org/wp-content/uploads/2025/02/Treefort-Swag-Bag.png
END:VEVENT
BEGIN:VEVENT
DTSTART;TZID=America/Boise:20250218T180000
DTEND;TZID=America/Boise:20250218T190000
DTSTAMP:20260423T214202
CREATED:20250207T200953Z
LAST-MODIFIED:20250207T200953Z
UID:10000247-1739901600-1739905200@ymcatvidaho.org
SUMMARY:Y Camp Open House Night
DESCRIPTION:Learn more about Y Camp and meet some of our awesome camp staff while enjoying a FREE dinner!\n\nTo RSVP or learn more\, please email daniel.alpers@ymcatvidaho.org
URL:https://ymcatvidaho.org/event/y-camp-open-house-night/
LOCATION:Y Community Hub\, 805 W Franklin Street\, Boise\, ID\, 83702\, United States
CATEGORIES:Y Camp,Y Community Hub
ATTACH;FMTTYPE=image/png:https://ymcatvidaho.org/wp-content/uploads/2025/02/Open-House.png
END:VEVENT
BEGIN:VEVENT
DTSTART;TZID=America/Boise:20250214T110000
DTEND;TZID=America/Boise:20250214T130000
DTSTAMP:20260423T214202
CREATED:20250207T195235Z
LAST-MODIFIED:20250207T195235Z
UID:10000245-1739530800-1739538000@ymcatvidaho.org
SUMMARY:Pal-entine's Day Bunko Party
DESCRIPTION:Join us at the YMCA Community Hub on February 14 from 11 a.m. to 1 p.m. for a few hours of fun with our friends playing Bunko! Bring some light snacks to share.
URL:https://ymcatvidaho.org/event/pal-entines-day-bunko-party/
LOCATION:Y Community Hub\, 805 W Franklin Street\, Boise\, ID\, 83702\, United States
CATEGORIES:ForeverWell (55+),Y Community Hub
ATTACH;FMTTYPE=image/png:https://ymcatvidaho.org/wp-content/uploads/2025/02/Palentines-Bunko.png
END:VEVENT
BEGIN:VEVENT
DTSTART;TZID=America/Boise:20250212T110000
DTEND;TZID=America/Boise:20250212T120000
DTSTAMP:20260423T214203
CREATED:20250207T194803Z
LAST-MODIFIED:20250207T194850Z
UID:10000244-1739358000-1739361600@ymcatvidaho.org
SUMMARY:Heart Healthy Cooking
DESCRIPTION:Did you know that heart disease is the leading cause of death for both men and women in the U.S.? \nJoin us Wednesday\, February 12 from 11:00 a.m. to 12:00 p.m. at the YMCA Community Hub to learn about current recommendations to improve your cardiovascular health. This class will include practical resources and tips on how individuals can improve their heart health.
URL:https://ymcatvidaho.org/event/heart-healthy-cooking/
LOCATION:Y Community Hub\, 805 W Franklin Street\, Boise\, ID\, 83702\, United States
CATEGORIES:ForeverWell (55+),Y Community Hub
ATTACH;FMTTYPE=image/png:https://ymcatvidaho.org/wp-content/uploads/2025/02/Heart-Healthy-Cooking.png
END:VEVENT
BEGIN:VEVENT
DTSTART;TZID=America/Boise:20250121T110000
DTEND;TZID=America/Boise:20250121T170000
DTSTAMP:20260423T214203
CREATED:20250106T203643Z
LAST-MODIFIED:20250106T203643Z
UID:10000242-1737457200-1737478800@ymcatvidaho.org
SUMMARY:Blood Drive
DESCRIPTION:Give blood. Help save lives. \nJoin us Tuesday\, January 21\, from 11:00 AM – 5:00 PM at the Y located at 5959 N Discovery Way\, Boise\, ID\, 83713. \nSchedule an appointment here: https://www.redcrossblood.org/
URL:https://ymcatvidaho.org/event/blood-drive/
LOCATION:West Boise YMCA\, 5959 N Discovery Way\, Boise\, ID\, 83713
CATEGORIES:West Boise YMCA
ATTACH;FMTTYPE=image/png:https://ymcatvidaho.org/wp-content/uploads/2025/01/2.png
END:VEVENT
BEGIN:VEVENT
DTSTART;TZID=America/Boise:20250116T130000
DTEND;TZID=America/Boise:20250116T143000
DTSTAMP:20260423T214203
CREATED:20250110T171833Z
LAST-MODIFIED:20250110T171833Z
UID:10000243-1737032400-1737037800@ymcatvidaho.org
SUMMARY:ForeverWell Co-Creation Luncheon
DESCRIPTION:Looking to get involved in the New Year and play a bigger role in your health and wellness journey? Join Kyle at the Community Hub to learn more about the ForeverWell identity and how we can create a member experience that is customized to your interests. Let’s breath some new life into our wellness journey with fresh and innovative ideas together. Light snacks and beverages will be provided.
URL:https://ymcatvidaho.org/event/foreverwell-co-creation-luncheon/
LOCATION:Y Community Hub\, 805 W Franklin Street\, Boise\, ID\, 83702\, United States
CATEGORIES:Y Community Hub
ATTACH;FMTTYPE=image/png:https://ymcatvidaho.org/wp-content/uploads/2025/01/Co-Creation-IG-Image.png
END:VEVENT
BEGIN:VEVENT
DTSTART;TZID=UTC:20241221T100000
DTEND;TZID=UTC:20241221T170000
DTSTAMP:20260423T214203
CREATED:20240917T021257Z
LAST-MODIFIED:20241218T213138Z
UID:10000217-1734775200-1734800400@ymcatvidaho.org
SUMMARY:2024 Christmas Run Presented by Velocity Clinical Research
DESCRIPTION:Race Date: December 21\, 2024Start Time: 10:00AMAges: All Ages \n\n\n\n2024 YMCA Christmas Run presented by Velocity Clinical Research. \n\n\n\nSaturday\, December 21\, 2024Boise\, Idaho \n\n\n\n\n\nRegistration Now Open!
URL:https://ymcatvidaho.org/event/2024-christmas-run-presented-by-velocity-clinical-research/
LOCATION:Boise High School Field\, 1010 W. Washington St.\, Boise\, ID\, 83702\, United States
CATEGORIES:Races & Runs
ATTACH;FMTTYPE=image/jpeg:https://ymcatvidaho.org/wp-content/uploads/2024/09/2024-Christmas-Run-Logo-Final-2.jpg
END:VEVENT
BEGIN:VEVENT
DTSTART;TZID=America/Boise:20241220T170000
DTEND;TZID=America/Boise:20241220T190000
DTSTAMP:20260423T214203
CREATED:20241218T214718Z
LAST-MODIFIED:20241218T214718Z
UID:10000239-1734714000-1734721200@ymcatvidaho.org
SUMMARY:Holiday Carnival
DESCRIPTION:Join us December 20\, from 5-7 PM at the West Boise YMCA Gym for a fun-filled day planned with games\, treats\, and plenty of holiday spirit! \nWe hope to see you there!
URL:https://ymcatvidaho.org/event/holiday-carnival/
LOCATION:West Boise YMCA\, 5959 N Discovery Way\, Boise\, ID\, 83713
CATEGORIES:West Boise YMCA
ATTACH;FMTTYPE=image/png:https://ymcatvidaho.org/wp-content/uploads/2024/12/Holiday-Carnival.png
END:VEVENT
BEGIN:VEVENT
DTSTART;TZID=America/Boise:20241219T130000
DTEND;TZID=America/Boise:20241219T150000
DTSTAMP:20260423T214203
CREATED:20241209T162805Z
LAST-MODIFIED:20241213T164830Z
UID:10000237-1734613200-1734620400@ymcatvidaho.org
SUMMARY:Holiday Cookie Exchange
DESCRIPTION:Join us Thursday\, December 19th from 1-3 PM at the YMCA Community Hub for a holiday cookie exchange! \nA wonderful way to celebrate the holidays and the joy of eating sweet treats is by hosting a Cookie Exchange. How it works is everyone brings two dozen of their favorite cookies to share\, the recipe and a to-go container for their NEW cookies and recipes. We will vote on our favorite cookie!\n\nFestive holiday attire is encouraged.
URL:https://ymcatvidaho.org/event/holiday-cookie-exchange/
LOCATION:Y Community Hub\, 805 W Franklin Street\, Boise\, ID\, 83702\, United States
CATEGORIES:ForeverWell (55+),Y Community Hub
ATTACH;FMTTYPE=image/jpeg:https://ymcatvidaho.org/wp-content/uploads/2024/12/469116974_979125414243193_4235631311184177575_n.jpg
END:VEVENT
END:VCALENDAR