BEGIN:VCALENDAR
VERSION:2.0
PRODID:-//Treasure Valley Family YMCA - ECPv6.15.20//NONSGML v1.0//EN
CALSCALE:GREGORIAN
METHOD:PUBLISH
X-WR-CALNAME:Treasure Valley Family YMCA
X-ORIGINAL-URL:https://ymcatvidaho.org
X-WR-CALDESC:Events for Treasure Valley Family YMCA
REFRESH-INTERVAL;VALUE=DURATION:PT1H
X-Robots-Tag:noindex
X-PUBLISHED-TTL:PT1H
BEGIN:VTIMEZONE
TZID:America/Boise
BEGIN:DAYLIGHT
TZOFFSETFROM:-0700
TZOFFSETTO:-0600
TZNAME:MDT
DTSTART:20240310T090000
END:DAYLIGHT
BEGIN:STANDARD
TZOFFSETFROM:-0600
TZOFFSETTO:-0700
TZNAME:MST
DTSTART:20241103T080000
END:STANDARD
BEGIN:DAYLIGHT
TZOFFSETFROM:-0700
TZOFFSETTO:-0600
TZNAME:MDT
DTSTART:20250309T090000
END:DAYLIGHT
BEGIN:STANDARD
TZOFFSETFROM:-0600
TZOFFSETTO:-0700
TZNAME:MST
DTSTART:20251102T080000
END:STANDARD
BEGIN:DAYLIGHT
TZOFFSETFROM:-0700
TZOFFSETTO:-0600
TZNAME:MDT
DTSTART:20260308T090000
END:DAYLIGHT
BEGIN:STANDARD
TZOFFSETFROM:-0600
TZOFFSETTO:-0700
TZNAME:MST
DTSTART:20261101T080000
END:STANDARD
END:VTIMEZONE
BEGIN:VEVENT
DTSTART;TZID=America/Boise:20251205T120000
DTEND;TZID=America/Boise:20251205T133000
DTSTAMP:20260423T043006
CREATED:20251124T233342Z
LAST-MODIFIED:20251124T233342Z
UID:10000423-1764936000-1764941400@ymcatvidaho.org
SUMMARY:Lunch & Learn: Smart and Planned Giving
DESCRIPTION:Join us for a free session on December 5\, 2025\, from 12:00-1:30 PM designed to help you make the most of your charitable giving. Our partners at Perspective Wealth Partners will share practical strategies for tax-smart giving\, plus the essentials of legacy planning. \n\n\n\n\n\n\n\n\n\n\n\n\n\n\n\n\n\n\nWhether you’re considering a year-end gift\, a planned gift\, or simply want to learn how to maximize your impact\, this event will give you the tools to give with confidence. \nThis event is FREE to both Y members and non-members. Lunch is provided. Join us at the YMCA Community Hub located at 805 W. Franklin Street in Boise\, Idaho. Space is limited–reserve your spot in YMCA360!
URL:https://ymcatvidaho.org/event/lunch-learn-smart-and-planned-giving/
LOCATION:Y Community Hub\, 805 W Franklin Street\, Boise\, ID\, 83702\, United States
CATEGORIES:Y Community Hub
ATTACH;FMTTYPE=image/png:https://ymcatvidaho.org/wp-content/uploads/2025/11/Lunch-and-Learn.png
END:VEVENT
BEGIN:VEVENT
DTSTART;TZID=America/Boise:20251203T130000
DTEND;TZID=America/Boise:20251203T143000
DTSTAMP:20260423T043006
CREATED:20250807T161605Z
LAST-MODIFIED:20250807T161605Z
UID:10000400-1764766800-1764772200@ymcatvidaho.org
SUMMARY:Healthy Sleep
DESCRIPTION:Join us December 3\, 2025\, from 1–2:15 p.m. at the Tomlinson South Meridian YMCA for Healthy Sleep with LeAnn Mora\, LCSW. \nRegister here:  https://tvfy.info/livingforeverwell
URL:https://ymcatvidaho.org/event/healthy-sleep/
LOCATION:Tomlinson South Meridian YMCA\, 5155 S Hillsdale Ave\, Meridian\, ID\, 83642\, United States
CATEGORIES:ForeverWell (55+),Tomlinson South Meridian YMCA
ATTACH;FMTTYPE=image/png:https://ymcatvidaho.org/wp-content/uploads/2025/08/Living-ForeverWell.png
END:VEVENT
BEGIN:VEVENT
DTSTART;TZID=America/Boise:20251122T180000
DTEND;TZID=America/Boise:20251122T200000
DTSTAMP:20260423T043006
CREATED:20250517T030224Z
LAST-MODIFIED:20250517T030224Z
UID:10000371-1763834400-1763841600@ymcatvidaho.org
SUMMARY:Family BINGO Night
DESCRIPTION:Bring the whole family for a night of laughs\, prizes\, and classic BINGO fun! All ages welcome—everyone has a chance to win! \nJoin us Friday\, November 22\, from 6-8 PM at the Downtown Boise YMCA. Register here!
URL:https://ymcatvidaho.org/event/family-bingo-night/
LOCATION:Downtown Boise YMCA\, 1050 W State St\, Boise\, Boise\, ID\, 83702
CATEGORIES:Downtown Boise YMCA
ATTACH;FMTTYPE=image/png:https://ymcatvidaho.org/wp-content/uploads/2025/05/Family_BINGO-Night-Downtown.png
END:VEVENT
BEGIN:VEVENT
DTSTART;VALUE=DATE:20251116
DTEND;VALUE=DATE:20251117
DTSTAMP:20260423T043006
CREATED:20251114T220902Z
LAST-MODIFIED:20251114T221403Z
UID:10000422-1763251200-1763337599@ymcatvidaho.org
SUMMARY:Quit Week Presented by Project Filter
DESCRIPTION:The Treasure Valley YMCA has partnered with Project Filter to host a Quit Week Challenge in support of the Great American Smokeout—a nationwide movement encouraging people to take the first step toward living tobacco-free. Join the challenge during Quit Week\, November 16-22. \nWhether you’re ready to quit completely or just want to cut back\, this challenge is your opportunity to take control of your health with the encouragement of your Y community. \nThroughout the week\, you’ll be guided through a series of activities designed to help you build awareness\, strengthen your resolve\, and celebrate progress. Not every task earns points- because much of quitting comes down to personal commitment and self-discipline\, but each one brings you closer to a healthier\, stronger you. \nWhy Join the Challenge?\n\n🚭 Protect Your Family: Children exposed to secondhand smoke are at higher risk for asthma\, ear infections\, and respiratory illness.\n❤️ Boost Your Health: Within just 20 minutes of quitting\, your heart rate and blood pressure begin to drop\, and within weeks\, lung function improves.\n👨‍👩‍👧 Set an Example: Quitting shows your loved ones that it’s never too late to make a healthy change.\n\nAnd if you need one more reason\, you’ll earn points in YMCA360 and get that much closer to some great Y swag! \nTake the challenge\, celebrate each day smoke-free\, and start your journey toward a stronger\, healthier life. Start now in YMCA360. \nFor Additional Quit Support\nQuitline: Call 1-800-QUIT-NOW for confidential\, one-on-one coaching and guidance. \nProject Filter: Explore Idaho’s free tools\, programs\, and personalized quitting support:\nhttps://projectfilter.org/ \nAmerican Cancer Society’s Great American Smokeout: Learn how to join the nationwide movement to quit tobacco for good:\nhttps://www.cancer.org/cancer/risk-prevention/tobacco/great-american-smokeout.html \nAmerican Lung Association: Access expert tips\, quitting plans\, and ongoing support for staying smoke-free:\nhttps://www.lung.org/quit-smoking
URL:https://ymcatvidaho.org/event/quit-week-presented-by-project-filter/
CATEGORIES:Health and Wellness
ATTACH;FMTTYPE=image/png:https://ymcatvidaho.org/wp-content/uploads/2025/11/JOIN-THE-CHALLENGE-1.png
LOCATION:https://ymcatvidaho.org/event/quit-week-presented-by-project-filter/
END:VEVENT
BEGIN:VEVENT
DTSTART;TZID=America/Boise:20251113T173000
DTEND;TZID=America/Boise:20251113T210000
DTSTAMP:20260423T043006
CREATED:20251003T215713Z
LAST-MODIFIED:20251112T203002Z
UID:10000420-1763055000-1763067600@ymcatvidaho.org
SUMMARY:Heritage Dinner 2025
DESCRIPTION:Join Boise’s leaders and YMCA legacy supporters at the 2025 YMCA Heritage Dinner\, an annual celebration of impact\, community\, and connection. This signature event honors our YMCA Endowment\, celebrates our legacy\, and casts a bold vision for the future\, bringing together over 300 guests\, including longtime supporters\, community champions\, and Y leadership. \nThursday\, November 13\, 2025\n5:30-9 p.m.\nRiverside Hotel | Grand Ballroom\n2900 W. Chinden Blvd\, Garden City\, Idaho \nRESERVE YOUR TICKETS NOW\n\n\n\nFor questions\, or to purchase tickets by phone\, please contact Katie Blackwell at 208-344-5502 x285 or email katie.blackwell@ymcatvidaho.org \nMEET OUR KEYNOTE SPEAKER\nAfter graduating from the University of Rochester in 1975\, Frank Baillargeon joined Eastman Kodak Company and began a 43-year career in consumer photography\, the final 18 years as owner and president of a photo-industry consultancy. Frank has published 2 historical novels\, with a 3rd coming in 2026. He also published a collection of holiday songs and poems written for his family over the decades.  \nFrank and his wife\, Pat\, have been Eagle residents since 1995\, have raised 3 children\, and are blessed with 9 grandchildren.  \nVolunteer service has been essential to Frank and Pat. They have served together for 20 years at Saint Alphonsus Annual Festival of Trees. Pat has volunteered at West Y Child Development Center for years. Frank has served on the Board of Directors of the Treasure Valley Family YMCA and on the Foundation Board and Advisory Council at Saint Alphonsus Regional Medical Center.  \nFrank and Pat were the proud recipients of the Service to Youth Award at Treasure Valley Family YMCA in 2023.  \nBECOME A HERITAGE DINNER SPONSOR\nSupport the YMCA’s legacy and future by sponsoring a table at the Heritage Dinner. While this cherished annual event honors our Endowment Fund and celebrates the spirit of philanthropy\, it is not a traditional fundraiser. Hosting a corporate table puts your brand in front of hundreds of business and civic leaders while helping us to host honored speakers\, steward future Y partners\, and support programs that strengthen local families. \nSponsorship Table for 10 – $1\,680\nSponsor Benefits Include: \n\nSeating\, appetizers\, and plated dinner service for 10 guests (we’re happy to help fill the table if needed)\nDirect connection with YMCA executive leadership\, board members\, other key stakeholders\, and community members\nVerbal and visual recognition during the event presentation\nBranded table placard\nInclusion in a pre-event social media post (shared among all sponsors)\nAcknowledgment in the post-event recap sent to guests\n\nThank you to our event sponsors!\n    \n  \n.    \n  \n     \n  \n  \nSponsorships are still available. To learn more or secure your table by phone\, please contact Casse Quick at 208-344-5502 x330 or email casse.quick@ymcatvidaho.org. \n 
URL:https://ymcatvidaho.org/event/heritage-dinner-2025/
LOCATION:Riverside Hotel Ballroom\, 2900 W Chinden Blvd\, Garden City\, 83714\, United States
CATEGORIES:All Facilities,Philanthropy
ATTACH;FMTTYPE=image/png:https://ymcatvidaho.org/wp-content/uploads/2025/10/Heritage-Dinner-ENews-Ad.png
END:VEVENT
BEGIN:VEVENT
DTSTART;TZID=America/Boise:20251105T130000
DTEND;TZID=America/Boise:20251105T143000
DTSTAMP:20260423T043006
CREATED:20250807T161435Z
LAST-MODIFIED:20250807T161435Z
UID:10000399-1762347600-1762353000@ymcatvidaho.org
SUMMARY:Nutrition During the Holidays
DESCRIPTION:Join us November 5\, 2025\, from 1–2:15 p.m. at the Tomlinson South Meridian YMCA for Nutrition During the Holidays with Josie Read\, RD\, and Casey Sheehy\, M.S.\, C.S.C.S. \nRegister here:  https://tvfy.info/livingforeverwell
URL:https://ymcatvidaho.org/event/nutrition-during-the-holidays/
LOCATION:Tomlinson South Meridian YMCA\, 5155 S Hillsdale Ave\, Meridian\, ID\, 83642\, United States
CATEGORIES:ForeverWell (55+),Tomlinson South Meridian YMCA
ATTACH;FMTTYPE=image/png:https://ymcatvidaho.org/wp-content/uploads/2025/08/Living-ForeverWell.png
END:VEVENT
BEGIN:VEVENT
DTSTART;VALUE=DATE:20251031
DTEND;VALUE=DATE:20251101
DTSTAMP:20260423T043006
CREATED:20250429T184406Z
LAST-MODIFIED:20250429T184406Z
UID:10000358-1761868800-1761955199@ymcatvidaho.org
SUMMARY:Y Camp Availability
DESCRIPTION:Y Camp is available for private groups\, rentals\, retreats\, and more on this date. Contact us to learn how you can reserve your own camp adventure!
URL:https://ymcatvidaho.org/event/y-camp-availability-84/
LOCATION:YMCA Camp at Horsethief Reservoir\, 301 Horsethief Rd\, Cascade\, 83611
CATEGORIES:Retreats & Events
ATTACH;FMTTYPE=image/png:https://ymcatvidaho.org/wp-content/uploads/2025/04/7.png
END:VEVENT
BEGIN:VEVENT
DTSTART;VALUE=DATE:20251030
DTEND;VALUE=DATE:20251031
DTSTAMP:20260423T043006
CREATED:20250429T184301Z
LAST-MODIFIED:20250429T184301Z
UID:10000357-1761782400-1761868799@ymcatvidaho.org
SUMMARY:Y Camp Availability
DESCRIPTION:Y Camp is available for private groups\, rentals\, retreats\, and more on this date. Contact us to learn how you can reserve your own camp adventure!
URL:https://ymcatvidaho.org/event/y-camp-availability-83/
LOCATION:YMCA Camp at Horsethief Reservoir\, 301 Horsethief Rd\, Cascade\, 83611
CATEGORIES:Retreats & Events
ATTACH;FMTTYPE=image/png:https://ymcatvidaho.org/wp-content/uploads/2025/04/1.png
END:VEVENT
BEGIN:VEVENT
DTSTART;VALUE=DATE:20251029
DTEND;VALUE=DATE:20251030
DTSTAMP:20260423T043006
CREATED:20250429T184133Z
LAST-MODIFIED:20250429T184133Z
UID:10000356-1761696000-1761782399@ymcatvidaho.org
SUMMARY:Y Camp Availability
DESCRIPTION:Y Camp is available for private groups\, rentals\, retreats\, and more on this date. Contact us to learn how you can reserve your own camp adventure!
URL:https://ymcatvidaho.org/event/y-camp-availability-82/
CATEGORIES:Retreats & Events
ATTACH;FMTTYPE=image/png:https://ymcatvidaho.org/wp-content/uploads/2025/04/2.png
END:VEVENT
BEGIN:VEVENT
DTSTART;VALUE=DATE:20251028
DTEND;VALUE=DATE:20251029
DTSTAMP:20260423T043006
CREATED:20250429T184030Z
LAST-MODIFIED:20250429T184030Z
UID:10000355-1761609600-1761695999@ymcatvidaho.org
SUMMARY:Y Camp Availability
DESCRIPTION:Y Camp is available for private groups\, rentals\, retreats\, and more on this date. Contact us to learn how you can reserve your own camp adventure!
URL:https://ymcatvidaho.org/event/y-camp-availability-81/
LOCATION:YMCA Camp at Horsethief Reservoir\, 301 Horsethief Rd\, Cascade\, 83611
CATEGORIES:Retreats & Events
ATTACH;FMTTYPE=image/png:https://ymcatvidaho.org/wp-content/uploads/2025/04/3.png
END:VEVENT
BEGIN:VEVENT
DTSTART;VALUE=DATE:20251027
DTEND;VALUE=DATE:20251028
DTSTAMP:20260423T043006
CREATED:20250429T183925Z
LAST-MODIFIED:20250429T183925Z
UID:10000354-1761523200-1761609599@ymcatvidaho.org
SUMMARY:Y Camp Availability
DESCRIPTION:Y Camp is available for private groups\, rentals\, retreats\, and more on this date. Contact us to learn how you can reserve your own camp adventure!
URL:https://ymcatvidaho.org/event/y-camp-availability-80/
LOCATION:YMCA Camp at Horsethief Reservoir\, 301 Horsethief Rd\, Cascade\, 83611
CATEGORIES:Retreats & Events
ATTACH;FMTTYPE=image/png:https://ymcatvidaho.org/wp-content/uploads/2025/04/4.png
END:VEVENT
BEGIN:VEVENT
DTSTART;TZID=America/Boise:20251024T180000
DTEND;TZID=America/Boise:20251024T200000
DTSTAMP:20260423T043006
CREATED:20250517T030019Z
LAST-MODIFIED:20250517T030019Z
UID:10000370-1761328800-1761336000@ymcatvidaho.org
SUMMARY:Halloween Carnival
DESCRIPTION:Enjoy a spooktacular night of games\, costumes\, and treats! Join us for safe\, festive fun the whole family will love. \nJoin us Friday\, October 24\, from 6-8 PM at the Downtown Boise YMCA. Register here!
URL:https://ymcatvidaho.org/event/halloween-carnival/
LOCATION:Downtown Boise YMCA\, 1050 W State St\, Boise\, Boise\, ID\, 83702
CATEGORIES:Downtown Boise YMCA
ATTACH;FMTTYPE=image/png:https://ymcatvidaho.org/wp-content/uploads/2025/05/Halloween_Carnival-Downtown.png
END:VEVENT
BEGIN:VEVENT
DTSTART;VALUE=DATE:20251022
DTEND;VALUE=DATE:20251023
DTSTAMP:20260423T043006
CREATED:20250429T183808Z
LAST-MODIFIED:20250429T183808Z
UID:10000353-1761091200-1761177599@ymcatvidaho.org
SUMMARY:Y Camp Availability
DESCRIPTION:Y Camp is available for private groups\, rentals\, retreats\, and more on this date. Contact us to learn how you can reserve your own camp adventure!
URL:https://ymcatvidaho.org/event/y-camp-availability-79/
LOCATION:YMCA Camp at Horsethief Reservoir\, 301 Horsethief Rd\, Cascade\, 83611
CATEGORIES:Retreats & Events
ATTACH;FMTTYPE=image/png:https://ymcatvidaho.org/wp-content/uploads/2025/04/5.png
END:VEVENT
BEGIN:VEVENT
DTSTART;VALUE=DATE:20251021
DTEND;VALUE=DATE:20251022
DTSTAMP:20260423T043006
CREATED:20250429T183712Z
LAST-MODIFIED:20250429T183712Z
UID:10000352-1761004800-1761091199@ymcatvidaho.org
SUMMARY:Y Camp Availability
DESCRIPTION:Y Camp is available for private groups\, rentals\, retreats\, and more on this date. Contact us to learn how you can reserve your own camp adventure!
URL:https://ymcatvidaho.org/event/y-camp-availability-78/
LOCATION:YMCA Camp at Horsethief Reservoir\, 301 Horsethief Rd\, Cascade\, 83611
CATEGORIES:Retreats & Events
ATTACH;FMTTYPE=image/png:https://ymcatvidaho.org/wp-content/uploads/2025/04/6.png
END:VEVENT
BEGIN:VEVENT
DTSTART;VALUE=DATE:20251020
DTEND;VALUE=DATE:20251021
DTSTAMP:20260423T043006
CREATED:20250429T183612Z
LAST-MODIFIED:20250429T183612Z
UID:10000351-1760918400-1761004799@ymcatvidaho.org
SUMMARY:Y Camp Availability
DESCRIPTION:Y Camp is available for private groups\, rentals\, retreats\, and more on this date. Contact us to learn how you can reserve your own camp adventure!
URL:https://ymcatvidaho.org/event/y-camp-availability-77/
LOCATION:YMCA Camp at Horsethief Reservoir\, 301 Horsethief Rd\, Cascade\, 83611
CATEGORIES:Retreats & Events
ATTACH;FMTTYPE=image/png:https://ymcatvidaho.org/wp-content/uploads/2025/04/7.png
END:VEVENT
BEGIN:VEVENT
DTSTART;VALUE=DATE:20251019
DTEND;VALUE=DATE:20251020
DTSTAMP:20260423T043006
CREATED:20250429T183511Z
LAST-MODIFIED:20250429T183511Z
UID:10000350-1760832000-1760918399@ymcatvidaho.org
SUMMARY:Y Camp Availability
DESCRIPTION:Y Camp is available for private groups\, rentals\, retreats\, and more on this date. Contact us to learn how you can reserve your own camp adventure!
URL:https://ymcatvidaho.org/event/y-camp-availability-76/
LOCATION:YMCA Camp at Horsethief Reservoir\, 301 Horsethief Rd\, Cascade\, 83611
CATEGORIES:Retreats & Events
ATTACH;FMTTYPE=image/png:https://ymcatvidaho.org/wp-content/uploads/2025/04/1.png
END:VEVENT
BEGIN:VEVENT
DTSTART;TZID=America/Boise:20251018T081500
DTEND;TZID=America/Boise:20251018T143000
DTSTAMP:20260423T043006
CREATED:20250717T164231Z
LAST-MODIFIED:20250908T221927Z
UID:10000395-1760775300-1760797800@ymcatvidaho.org
SUMMARY:Brain Health Symposium 2025
DESCRIPTION:View Agenda Here\nBrain health is a critical piece of your overall health. It underlies your ability to communicate\, make decisions\, problem-solve\, and live a productive and useful life. Because the brain controls so much of daily function\, it is arguably the most valuable organ in the human body. \nThis educational forum provides an opportunity for adults to better understand important considerations for navigating life stages. Identify and learn strategies to assist in a healthy and functioning brain and improve your overall quality of life. \nREGISTER NOW! \n“Brain health is community health. At the Brain Health Symposium\, we’re bringing neighbors\, caregivers\, and professionals together to turn science into everyday steps that help us think\, remember\, and live well. This symposium is about sharing practical tools that people can start using now to protect what makes each of us who we are.”\n– Mercedes Muñoz\, Greater Idaho Chapter | Alzheimer’s Association
URL:https://ymcatvidaho.org/event/brain-health-symposium-2025/
LOCATION:Idaho College of Osteopathic Medicine\, 1401 E Central Dr\, Meridian\, ID\, 83642\, United States
CATEGORIES:ForeverWell (55+),Health and Wellness
ATTACH;FMTTYPE=image/png:https://ymcatvidaho.org/wp-content/uploads/2025/07/BrainHealthSymposium_2025-Logo.png
END:VEVENT
BEGIN:VEVENT
DTSTART;VALUE=DATE:20251018
DTEND;VALUE=DATE:20251019
DTSTAMP:20260423T043006
CREATED:20250429T183401Z
LAST-MODIFIED:20250429T183401Z
UID:10000349-1760745600-1760831999@ymcatvidaho.org
SUMMARY:Y Camp Availability
DESCRIPTION:Y Camp is available for private groups\, rentals\, retreats\, and more on this date. Contact us to learn how you can reserve your own camp adventure!
URL:https://ymcatvidaho.org/event/y-camp-availability-75/
LOCATION:YMCA Camp at Horsethief Reservoir\, 301 Horsethief Rd\, Cascade\, 83611
CATEGORIES:Retreats & Events
ATTACH;FMTTYPE=image/png:https://ymcatvidaho.org/wp-content/uploads/2025/04/2.png
END:VEVENT
BEGIN:VEVENT
DTSTART;VALUE=DATE:20251017
DTEND;VALUE=DATE:20251018
DTSTAMP:20260423T043006
CREATED:20250429T183253Z
LAST-MODIFIED:20250429T183253Z
UID:10000348-1760659200-1760745599@ymcatvidaho.org
SUMMARY:Y Camp Availability
DESCRIPTION:Y Camp is available for private groups\, rentals\, retreats\, and more on this date. Contact us to learn how you can reserve your own camp adventure!
URL:https://ymcatvidaho.org/event/y-camp-availability-74/
LOCATION:YMCA Camp at Horsethief Reservoir\, 301 Horsethief Rd\, Cascade\, 83611
CATEGORIES:Retreats & Events
ATTACH;FMTTYPE=image/png:https://ymcatvidaho.org/wp-content/uploads/2025/04/3.png
END:VEVENT
BEGIN:VEVENT
DTSTART;VALUE=DATE:20251016
DTEND;VALUE=DATE:20251017
DTSTAMP:20260423T043006
CREATED:20250429T183156Z
LAST-MODIFIED:20250429T183156Z
UID:10000347-1760572800-1760659199@ymcatvidaho.org
SUMMARY:Y Camp Availability
DESCRIPTION:Y Camp is available for private groups\, rentals\, retreats\, and more on this date. Contact us to learn how you can reserve your own camp adventure!
URL:https://ymcatvidaho.org/event/y-camp-availability-73/
LOCATION:YMCA Camp at Horsethief Reservoir\, 301 Horsethief Rd\, Cascade\, 83611
CATEGORIES:Retreats & Events
ATTACH;FMTTYPE=image/png:https://ymcatvidaho.org/wp-content/uploads/2025/04/4.png
END:VEVENT
BEGIN:VEVENT
DTSTART;VALUE=DATE:20251015
DTEND;VALUE=DATE:20251016
DTSTAMP:20260423T043006
CREATED:20250429T183040Z
LAST-MODIFIED:20250429T183040Z
UID:10000346-1760486400-1760572799@ymcatvidaho.org
SUMMARY:Y Camp Availability
DESCRIPTION:Y Camp is available for private groups\, rentals\, retreats\, and more on this date. Contact us to learn how you can reserve your own camp adventure!
URL:https://ymcatvidaho.org/event/y-camp-availability-72/
LOCATION:YMCA Camp at Horsethief Reservoir\, 301 Horsethief Rd\, Cascade\, 83611
CATEGORIES:Retreats & Events
ATTACH;FMTTYPE=image/png:https://ymcatvidaho.org/wp-content/uploads/2025/04/5.png
END:VEVENT
BEGIN:VEVENT
DTSTART;VALUE=DATE:20251014
DTEND;VALUE=DATE:20251015
DTSTAMP:20260423T043006
CREATED:20250429T182938Z
LAST-MODIFIED:20250429T182938Z
UID:10000345-1760400000-1760486399@ymcatvidaho.org
SUMMARY:Y Camp Availability
DESCRIPTION:Y Camp is available for private groups\, rentals\, retreats\, and more on this date. Contact us to learn how you can reserve your own camp adventure!
URL:https://ymcatvidaho.org/event/y-camp-availability-71/
LOCATION:YMCA Camp at Horsethief Reservoir\, 301 Horsethief Rd\, Cascade\, 83611
CATEGORIES:Retreats & Events
ATTACH;FMTTYPE=image/png:https://ymcatvidaho.org/wp-content/uploads/2025/04/6.png
END:VEVENT
BEGIN:VEVENT
DTSTART;VALUE=DATE:20251013
DTEND;VALUE=DATE:20251014
DTSTAMP:20260423T043006
CREATED:20250429T182842Z
LAST-MODIFIED:20250429T182842Z
UID:10000344-1760313600-1760399999@ymcatvidaho.org
SUMMARY:Y Camp Availability
DESCRIPTION:Y Camp is available for private groups\, rentals\, retreats\, and more on this date. Contact us to learn how you can reserve your own camp adventure!
URL:https://ymcatvidaho.org/event/y-camp-availability-70/
LOCATION:YMCA Camp at Horsethief Reservoir\, 301 Horsethief Rd\, Cascade\, 83611
CATEGORIES:Retreats & Events
ATTACH;FMTTYPE=image/png:https://ymcatvidaho.org/wp-content/uploads/2025/04/7.png
END:VEVENT
BEGIN:VEVENT
DTSTART;VALUE=DATE:20251010
DTEND;VALUE=DATE:20251013
DTSTAMP:20260423T043006
CREATED:20250403T201712Z
LAST-MODIFIED:20250403T201712Z
UID:10000271-1760054400-1760313599@ymcatvidaho.org
SUMMARY:Fall Family Camp
DESCRIPTION:Why let kids have all the fun?! Stay in a cabin or yurt and join us for a weekend of Fall fun through adventure and community in the beautiful Idaho mountains! We provide all meals and activities while you and your family enjoy a fantastic getaway where you can do as much or as little as you like. \nOptional activities available at family camps include: archery\, zip line\, rock wall\, canoeing\, fishing\, sports\, arts and crafts\, cookie decorating\, campfires\, hiking\, mountain biking\, pumpkin carving\, costume dress up and costume contest\, and more! \nRegister here: https://ymcatvidaho.org/horesthief-camp/fall-family-camp/ \nHave a question? Connect with Daniel at daniel.alpers@ymcatvidaho.org or call at 208-344-5502 ext.856
URL:https://ymcatvidaho.org/event/fall-family-camp/
LOCATION:YMCA Camp at Horsethief Reservoir\, 301 Horsethief Rd\, Cascade\, 83611
CATEGORIES:Retreats & Events,Y Camp
END:VEVENT
BEGIN:VEVENT
DTSTART;VALUE=DATE:20251009
DTEND;VALUE=DATE:20251010
DTSTAMP:20260423T043006
CREATED:20250429T182738Z
LAST-MODIFIED:20250429T182738Z
UID:10000343-1759968000-1760054399@ymcatvidaho.org
SUMMARY:Y Camp Availability
DESCRIPTION:Y Camp is available for private groups\, rentals\, retreats\, and more on this date. Contact us to learn how you can reserve your own camp adventure!
URL:https://ymcatvidaho.org/event/y-camp-availability-69/
LOCATION:YMCA Camp at Horsethief Reservoir\, 301 Horsethief Rd\, Cascade\, 83611
CATEGORIES:Retreats & Events
ATTACH;FMTTYPE=image/png:https://ymcatvidaho.org/wp-content/uploads/2025/04/1.png
END:VEVENT
BEGIN:VEVENT
DTSTART;VALUE=DATE:20251008
DTEND;VALUE=DATE:20251009
DTSTAMP:20260423T043006
CREATED:20250429T182641Z
LAST-MODIFIED:20250429T182641Z
UID:10000342-1759881600-1759967999@ymcatvidaho.org
SUMMARY:Y Camp Availability
DESCRIPTION:Y Camp is available for private groups\, rentals\, retreats\, and more on this date. Contact us to learn how you can reserve your own camp adventure!
URL:https://ymcatvidaho.org/event/y-camp-availability-68/
LOCATION:YMCA Camp at Horsethief Reservoir\, 301 Horsethief Rd\, Cascade\, 83611
CATEGORIES:Retreats & Events
ATTACH;FMTTYPE=image/png:https://ymcatvidaho.org/wp-content/uploads/2025/04/2.png
END:VEVENT
BEGIN:VEVENT
DTSTART;VALUE=DATE:20251007
DTEND;VALUE=DATE:20251008
DTSTAMP:20260423T043006
CREATED:20250429T182544Z
LAST-MODIFIED:20250429T182544Z
UID:10000341-1759795200-1759881599@ymcatvidaho.org
SUMMARY:Y Camp Availability
DESCRIPTION:Y Camp is available for private groups\, rentals\, retreats\, and more on this date. Contact us to learn how you can reserve your own camp adventure!
URL:https://ymcatvidaho.org/event/y-camp-availability-67/
LOCATION:YMCA Camp at Horsethief Reservoir\, 301 Horsethief Rd\, Cascade\, 83611
CATEGORIES:Retreats & Events
ATTACH;FMTTYPE=image/png:https://ymcatvidaho.org/wp-content/uploads/2025/04/3.png
END:VEVENT
BEGIN:VEVENT
DTSTART;VALUE=DATE:20251006
DTEND;VALUE=DATE:20251007
DTSTAMP:20260423T043006
CREATED:20250429T182421Z
LAST-MODIFIED:20250429T182421Z
UID:10000340-1759708800-1759795199@ymcatvidaho.org
SUMMARY:Y Camp Availability
DESCRIPTION:Y Camp is available for private groups\, rentals\, retreats\, and more on this date. Contact us to learn how you can reserve your own camp adventure!
URL:https://ymcatvidaho.org/event/y-camp-availability-66/
LOCATION:YMCA Camp at Horsethief Reservoir\, 301 Horsethief Rd\, Cascade\, 83611
CATEGORIES:Retreats & Events
ATTACH;FMTTYPE=image/png:https://ymcatvidaho.org/wp-content/uploads/2025/04/4.png
END:VEVENT
BEGIN:VEVENT
DTSTART;VALUE=DATE:20251005
DTEND;VALUE=DATE:20251006
DTSTAMP:20260423T043006
CREATED:20250429T182258Z
LAST-MODIFIED:20250429T182258Z
UID:10000339-1759622400-1759708799@ymcatvidaho.org
SUMMARY:Y Camp Availability
DESCRIPTION:Y Camp is available for private groups\, rentals\, retreats\, and more on this date. Contact us to learn how you can reserve your own camp adventure!
URL:https://ymcatvidaho.org/event/y-camp-availability-65/
LOCATION:YMCA Camp at Horsethief Reservoir\, 301 Horsethief Rd\, Cascade\, 83611
CATEGORIES:Retreats & Events
ATTACH;FMTTYPE=image/png:https://ymcatvidaho.org/wp-content/uploads/2025/04/5.png
END:VEVENT
BEGIN:VEVENT
DTSTART;VALUE=DATE:20251004
DTEND;VALUE=DATE:20251005
DTSTAMP:20260423T043006
CREATED:20250429T182157Z
LAST-MODIFIED:20250429T182157Z
UID:10000338-1759536000-1759622399@ymcatvidaho.org
SUMMARY:Y Camp Availability
DESCRIPTION:Y Camp is available for private groups\, rentals\, retreats\, and more on this date. Contact us to learn how you can reserve your own camp adventure!
URL:https://ymcatvidaho.org/event/y-camp-availability-64/
LOCATION:YMCA Camp at Horsethief Reservoir\, 301 Horsethief Rd\, Cascade\, 83611
CATEGORIES:Retreats & Events
ATTACH;FMTTYPE=image/png:https://ymcatvidaho.org/wp-content/uploads/2025/04/6.png
END:VEVENT
END:VCALENDAR