BEGIN:VCALENDAR
VERSION:2.0
PRODID:-//Treasure Valley Family YMCA - ECPv6.15.20//NONSGML v1.0//EN
CALSCALE:GREGORIAN
METHOD:PUBLISH
X-ORIGINAL-URL:https://ymcatvidaho.org
X-WR-CALDESC:Events for Treasure Valley Family YMCA
REFRESH-INTERVAL;VALUE=DURATION:PT1H
X-Robots-Tag:noindex
X-PUBLISHED-TTL:PT1H
BEGIN:VTIMEZONE
TZID:America/Boise
BEGIN:DAYLIGHT
TZOFFSETFROM:-0700
TZOFFSETTO:-0600
TZNAME:MDT
DTSTART:20240310T090000
END:DAYLIGHT
BEGIN:STANDARD
TZOFFSETFROM:-0600
TZOFFSETTO:-0700
TZNAME:MST
DTSTART:20241103T080000
END:STANDARD
BEGIN:DAYLIGHT
TZOFFSETFROM:-0700
TZOFFSETTO:-0600
TZNAME:MDT
DTSTART:20250309T090000
END:DAYLIGHT
BEGIN:STANDARD
TZOFFSETFROM:-0600
TZOFFSETTO:-0700
TZNAME:MST
DTSTART:20251102T080000
END:STANDARD
BEGIN:DAYLIGHT
TZOFFSETFROM:-0700
TZOFFSETTO:-0600
TZNAME:MDT
DTSTART:20260308T090000
END:DAYLIGHT
BEGIN:STANDARD
TZOFFSETFROM:-0600
TZOFFSETTO:-0700
TZNAME:MST
DTSTART:20261101T080000
END:STANDARD
END:VTIMEZONE
BEGIN:VEVENT
DTSTART;VALUE=DATE:20250918
DTEND;VALUE=DATE:20250919
DTSTAMP:20260423T112834
CREATED:20250421T164145Z
LAST-MODIFIED:20250421T164145Z
UID:10000326-1758153600-1758239999@ymcatvidaho.org
SUMMARY:Y Camp Availability
DESCRIPTION:Y Camp is available for private groups\, rentals\, retreats\, and more on this date. Contact us to learn how you can reserve your own camp adventure!
URL:https://ymcatvidaho.org/event/y-camp-availability-53/
LOCATION:YMCA Camp at Horsethief Reservoir\, 301 Horsethief Rd\, Cascade\, 83611
CATEGORIES:Retreats & Events
ATTACH;FMTTYPE=image/png:https://ymcatvidaho.org/wp-content/uploads/2025/04/3.png
END:VEVENT
BEGIN:VEVENT
DTSTART;VALUE=DATE:20250917
DTEND;VALUE=DATE:20250918
DTSTAMP:20260423T112834
CREATED:20250421T164036Z
LAST-MODIFIED:20250421T164036Z
UID:10000325-1758067200-1758153599@ymcatvidaho.org
SUMMARY:Y Camp Availability
DESCRIPTION:Y Camp is available for private groups\, rentals\, retreats\, and more on this date. Contact us to learn how you can reserve your own camp adventure!
URL:https://ymcatvidaho.org/event/y-camp-availability-52/
LOCATION:YMCA Camp at Horsethief Reservoir\, 301 Horsethief Rd\, Cascade\, 83611
CATEGORIES:Retreats & Events
ATTACH;FMTTYPE=image/png:https://ymcatvidaho.org/wp-content/uploads/2025/04/4.png
END:VEVENT
BEGIN:VEVENT
DTSTART;VALUE=DATE:20250916
DTEND;VALUE=DATE:20250917
DTSTAMP:20260423T112834
CREATED:20250421T163936Z
LAST-MODIFIED:20250421T163936Z
UID:10000324-1757980800-1758067199@ymcatvidaho.org
SUMMARY:Y Camp Availability
DESCRIPTION:Y Camp is available for private groups\, rentals\, retreats\, and more on this date. Contact us to learn how you can reserve your own camp adventure!
URL:https://ymcatvidaho.org/event/y-camp-availability-51/
LOCATION:YMCA Camp at Horsethief Reservoir\, 301 Horsethief Rd\, Cascade\, 83611
CATEGORIES:Retreats & Events
ATTACH;FMTTYPE=image/png:https://ymcatvidaho.org/wp-content/uploads/2025/04/5.png
END:VEVENT
BEGIN:VEVENT
DTSTART;VALUE=DATE:20250915
DTEND;VALUE=DATE:20250916
DTSTAMP:20260423T112834
CREATED:20250421T163805Z
LAST-MODIFIED:20250421T163805Z
UID:10000323-1757894400-1757980799@ymcatvidaho.org
SUMMARY:Y Camp Availability
DESCRIPTION:Y Camp is available for private groups\, rentals\, retreats\, and more on this date. Contact us to learn how you can reserve your own camp adventure!
URL:https://ymcatvidaho.org/event/y-camp-availability-50/
LOCATION:YMCA Camp at Horsethief Reservoir\, 301 Horsethief Rd\, Cascade\, 83611
CATEGORIES:Retreats & Events
ATTACH;FMTTYPE=image/png:https://ymcatvidaho.org/wp-content/uploads/2025/04/6.png
END:VEVENT
BEGIN:VEVENT
DTSTART;VALUE=DATE:20250914
DTEND;VALUE=DATE:20250915
DTSTAMP:20260423T112834
CREATED:20250421T163701Z
LAST-MODIFIED:20250421T163701Z
UID:10000322-1757808000-1757894399@ymcatvidaho.org
SUMMARY:Y Camp Availability
DESCRIPTION:Y Camp is available for private groups\, rentals\, retreats\, and more on this date. Contact us to learn how you can reserve your own camp adventure!
URL:https://ymcatvidaho.org/event/y-camp-availability-49/
LOCATION:YMCA Camp at Horsethief Reservoir\, 301 Horsethief Rd\, Cascade\, 83611
CATEGORIES:Retreats & Events
ATTACH;FMTTYPE=image/png:https://ymcatvidaho.org/wp-content/uploads/2025/04/7.png
END:VEVENT
BEGIN:VEVENT
DTSTART;VALUE=DATE:20250913
DTEND;VALUE=DATE:20250914
DTSTAMP:20260423T112834
CREATED:20250421T163559Z
LAST-MODIFIED:20250421T163559Z
UID:10000321-1757721600-1757807999@ymcatvidaho.org
SUMMARY:Y Camp Availability
DESCRIPTION:Y Camp is available for private groups\, rentals\, retreats\, and more on this date. Contact us to learn how you can reserve your own camp adventure!
URL:https://ymcatvidaho.org/event/y-camp-availability-48/
LOCATION:YMCA Camp at Horsethief Reservoir\, 301 Horsethief Rd\, Cascade\, 83611
CATEGORIES:Retreats & Events
ATTACH;FMTTYPE=image/png:https://ymcatvidaho.org/wp-content/uploads/2025/04/1.png
END:VEVENT
BEGIN:VEVENT
DTSTART;VALUE=DATE:20250912
DTEND;VALUE=DATE:20250913
DTSTAMP:20260423T112834
CREATED:20250421T163502Z
LAST-MODIFIED:20250421T163502Z
UID:10000320-1757635200-1757721599@ymcatvidaho.org
SUMMARY:Y Camp Availability
DESCRIPTION:Y Camp is available for private groups\, rentals\, retreats\, and more on this date. Contact us to learn how you can reserve your own camp adventure!
URL:https://ymcatvidaho.org/event/y-camp-availability-47/
LOCATION:YMCA Camp at Horsethief Reservoir\, 301 Horsethief Rd\, Cascade\, 83611
CATEGORIES:Retreats & Events
ATTACH;FMTTYPE=image/png:https://ymcatvidaho.org/wp-content/uploads/2025/04/2.png
END:VEVENT
BEGIN:VEVENT
DTSTART;VALUE=DATE:20250911
DTEND;VALUE=DATE:20250912
DTSTAMP:20260423T112834
CREATED:20250421T163405Z
LAST-MODIFIED:20250421T163405Z
UID:10000319-1757548800-1757635199@ymcatvidaho.org
SUMMARY:Y Camp Availability
DESCRIPTION:Y Camp is available for private groups\, rentals\, retreats\, and more on this date. Contact us to learn how you can reserve your own camp adventure!
URL:https://ymcatvidaho.org/event/y-camp-availability-46/
LOCATION:YMCA Camp at Horsethief Reservoir\, 301 Horsethief Rd\, Cascade\, 83611
CATEGORIES:Retreats & Events
ATTACH;FMTTYPE=image/png:https://ymcatvidaho.org/wp-content/uploads/2025/04/3.png
END:VEVENT
BEGIN:VEVENT
DTSTART;VALUE=DATE:20250910
DTEND;VALUE=DATE:20250911
DTSTAMP:20260423T112834
CREATED:20250421T163309Z
LAST-MODIFIED:20250421T163309Z
UID:10000318-1757462400-1757548799@ymcatvidaho.org
SUMMARY:Y Camp Availability
DESCRIPTION:Y Camp is available for private groups\, rentals\, retreats\, and more on this date. Contact us to learn how you can reserve your own camp adventure!
URL:https://ymcatvidaho.org/event/y-camp-availability-45/
LOCATION:YMCA Camp at Horsethief Reservoir\, 301 Horsethief Rd\, Cascade\, 83611
CATEGORIES:Retreats & Events
ATTACH;FMTTYPE=image/png:https://ymcatvidaho.org/wp-content/uploads/2025/04/4.png
END:VEVENT
BEGIN:VEVENT
DTSTART;VALUE=DATE:20250909
DTEND;VALUE=DATE:20250910
DTSTAMP:20260423T112834
CREATED:20250421T163214Z
LAST-MODIFIED:20250421T163214Z
UID:10000317-1757376000-1757462399@ymcatvidaho.org
SUMMARY:Y Camp Availability
DESCRIPTION:Y Camp is available for private groups\, rentals\, retreats\, and more on this date. Contact us to learn how you can reserve your own camp adventure!
URL:https://ymcatvidaho.org/event/y-camp-availability-44/
LOCATION:YMCA Camp at Horsethief Reservoir\, 301 Horsethief Rd\, Cascade\, 83611
CATEGORIES:Retreats & Events
ATTACH;FMTTYPE=image/png:https://ymcatvidaho.org/wp-content/uploads/2025/04/5.png
END:VEVENT
BEGIN:VEVENT
DTSTART;VALUE=DATE:20250908
DTEND;VALUE=DATE:20250909
DTSTAMP:20260423T112834
CREATED:20250421T163039Z
LAST-MODIFIED:20250421T163039Z
UID:10000316-1757289600-1757375999@ymcatvidaho.org
SUMMARY:Y Camp Availability
DESCRIPTION:Y Camp is available for private groups\, rentals\, retreats\, and more on this date. Contact us to learn how you can reserve your own camp adventure!
URL:https://ymcatvidaho.org/event/y-camp-availability-43/
LOCATION:YMCA Camp at Horsethief Reservoir\, 301 Horsethief Rd\, Cascade\, 83611
CATEGORIES:Retreats & Events
ATTACH;FMTTYPE=image/png:https://ymcatvidaho.org/wp-content/uploads/2025/04/6.png
END:VEVENT
BEGIN:VEVENT
DTSTART;VALUE=DATE:20250907
DTEND;VALUE=DATE:20250908
DTSTAMP:20260423T112834
CREATED:20250421T162943Z
LAST-MODIFIED:20250421T162943Z
UID:10000315-1757203200-1757289599@ymcatvidaho.org
SUMMARY:Y Camp Availability
DESCRIPTION:Y Camp is available for private groups\, rentals\, retreats\, and more on this date. Contact us to learn how you can reserve your own camp adventure!
URL:https://ymcatvidaho.org/event/y-camp-availability-42/
LOCATION:YMCA Camp at Horsethief Reservoir\, 301 Horsethief Rd\, Cascade\, 83611
CATEGORIES:Retreats & Events
ATTACH;FMTTYPE=image/png:https://ymcatvidaho.org/wp-content/uploads/2025/04/7.png
END:VEVENT
BEGIN:VEVENT
DTSTART;VALUE=DATE:20250904
DTEND;VALUE=DATE:20250905
DTSTAMP:20260423T112834
CREATED:20250421T162838Z
LAST-MODIFIED:20250421T162838Z
UID:10000314-1756944000-1757030399@ymcatvidaho.org
SUMMARY:Y Camp Availability
DESCRIPTION:Y Camp is available for private groups\, rentals\, retreats\, and more on this date. Contact us to learn how you can reserve your own camp adventure!
URL:https://ymcatvidaho.org/event/y-camp-availability-41/
LOCATION:YMCA Camp at Horsethief Reservoir\, 301 Horsethief Rd\, Cascade\, 83611
CATEGORIES:Retreats & Events
ATTACH;FMTTYPE=image/png:https://ymcatvidaho.org/wp-content/uploads/2025/04/1.png
END:VEVENT
BEGIN:VEVENT
DTSTART;TZID=America/Boise:20250903T130000
DTEND;TZID=America/Boise:20250903T143000
DTSTAMP:20260423T112834
CREATED:20250807T161011Z
LAST-MODIFIED:20250807T161011Z
UID:10000397-1756904400-1756909800@ymcatvidaho.org
SUMMARY:Lifestyle is Medicine
DESCRIPTION:Join us the September 3\, 2025\, from 1–2:15 p.m. at the Tomlinson South Meridian YMCA for Lifestyle is Medicine with Dr. Jennifer T. Shalz\, MD\, and Mickey Pederson\, YMCA Executive Director. \nRegister here:  https://tvfy.info/livingforeverwell
URL:https://ymcatvidaho.org/event/lifestyle-is-medicine/
LOCATION:Tomlinson South Meridian YMCA\, 5155 S Hillsdale Ave\, Meridian\, ID\, 83642\, United States
CATEGORIES:ForeverWell (55+),Tomlinson South Meridian YMCA
ATTACH;FMTTYPE=image/png:https://ymcatvidaho.org/wp-content/uploads/2025/08/Living-ForeverWell.png
END:VEVENT
BEGIN:VEVENT
DTSTART;VALUE=DATE:20250903
DTEND;VALUE=DATE:20250904
DTSTAMP:20260423T112834
CREATED:20250421T162734Z
LAST-MODIFIED:20250421T162734Z
UID:10000313-1756857600-1756943999@ymcatvidaho.org
SUMMARY:Y Camp Availability
DESCRIPTION:Y Camp is available for private groups\, rentals\, retreats\, and more on this date. Contact us to learn how you can reserve your own camp adventure!
URL:https://ymcatvidaho.org/event/y-camp-availability-40/
LOCATION:YMCA Camp at Horsethief Reservoir\, 301 Horsethief Rd\, Cascade\, 83611
CATEGORIES:Retreats & Events
ATTACH;FMTTYPE=image/png:https://ymcatvidaho.org/wp-content/uploads/2025/04/2.png
END:VEVENT
BEGIN:VEVENT
DTSTART;VALUE=DATE:20250902
DTEND;VALUE=DATE:20250903
DTSTAMP:20260423T112834
CREATED:20250421T162630Z
LAST-MODIFIED:20250421T162630Z
UID:10000312-1756771200-1756857599@ymcatvidaho.org
SUMMARY:Y Camp Availability
DESCRIPTION:Y Camp is available for private groups\, rentals\, retreats\, and more on this date. Contact us to learn how you can reserve your own camp adventure!
URL:https://ymcatvidaho.org/event/y-camp-availability-39/
LOCATION:YMCA Camp at Horsethief Reservoir\, 301 Horsethief Rd\, Cascade\, 83611
CATEGORIES:Retreats & Events
ATTACH;FMTTYPE=image/png:https://ymcatvidaho.org/wp-content/uploads/2025/04/3.png
END:VEVENT
BEGIN:VEVENT
DTSTART;VALUE=DATE:20250901
DTEND;VALUE=DATE:20250902
DTSTAMP:20260423T112834
CREATED:20250421T162531Z
LAST-MODIFIED:20250421T162531Z
UID:10000311-1756684800-1756771199@ymcatvidaho.org
SUMMARY:Y Camp Availability
DESCRIPTION:Y Camp is available for private groups\, rentals\, retreats\, and more on this date. Contact us to learn how you can reserve your own camp adventure!
URL:https://ymcatvidaho.org/event/y-camp-availability-38/
LOCATION:YMCA Camp at Horsethief Reservoir\, 301 Horsethief Rd\, Cascade\, 83611
CATEGORIES:Retreats & Events
ATTACH;FMTTYPE=image/png:https://ymcatvidaho.org/wp-content/uploads/2025/04/4.png
END:VEVENT
BEGIN:VEVENT
DTSTART;VALUE=DATE:20250829
DTEND;VALUE=DATE:20250902
DTSTAMP:20260423T112834
CREATED:20250403T201500Z
LAST-MODIFIED:20250403T201500Z
UID:10000270-1756425600-1756771199@ymcatvidaho.org
SUMMARY:Labor Day Family Camp
DESCRIPTION:Why let kids have all the fun?! Stay in a cabin\, yurt\, platform tent\, or tent camp and join us for a weekend of adventure and community in the beautiful Idaho mountains! We provide all meals and activities while you and your family enjoy a fantastic getaway where you can do as much or as little as you like. \nOptional activities available at family camps include: archery\, zip line\, rock wall\, canoeing\, fishing\, sports\, arts and crafts\, cookie decorating\, campfires\, hiking\, mountain biking\, and more! (Swimming is weather dependent) \nRegister here: https://ymcatvidaho.org/horesthief-camp/labor-day-family-camp/ \nHave a question? Connect with Daniel at daniel.alpers@ymcatvidaho.org or call at 208-344-5502 ext.856
URL:https://ymcatvidaho.org/event/labor-day-family-camp/
LOCATION:YMCA Camp at Horsethief Reservoir\, 301 Horsethief Rd\, Cascade\, 83611
CATEGORIES:Retreats & Events,Y Camp
END:VEVENT
BEGIN:VEVENT
DTSTART;TZID=America/Boise:20250828T173000
DTEND;TZID=America/Boise:20250828T193000
DTSTAMP:20260423T112834
CREATED:20250820T205531Z
LAST-MODIFIED:20250820T205531Z
UID:10000402-1756402200-1756409400@ymcatvidaho.org
SUMMARY:Downtown Boise: Aquatics Open House
DESCRIPTION:You’ve been asking! \nJoin Cliff Naumann\, V.P. and Chief Membership Officer\, and Mike Kapuscinski\, Downtown Boise YMCA Executive Director\, to learn more about your new CapEd Downtown Boise YMCA. The event format will be a presentation followed by plenty of time for Q&A. Content will specifically focus on Aquatics spaces and programming at the new Downtown Y. \nAugust 28\, 5:30 PM at the Downtown YMCA \nRegistration is free and open to any Treasure Valley Family YMCA member\, and you must reserve your spot in advance. Click here to register. \nTo learn more about the project now: Click HERE \nFuture Open Houses will focus on Youth Programming.
URL:https://ymcatvidaho.org/event/downtown-boise-aquatics-open-house/
LOCATION:Downtown Boise YMCA\, 1050 W State St\, Boise\, Boise\, ID\, 83702
CATEGORIES:Downtown Boise YMCA
ATTACH;FMTTYPE=image/png:https://ymcatvidaho.org/wp-content/uploads/2025/08/YMCA-Boi_NatatoriumvRendering.png
END:VEVENT
BEGIN:VEVENT
DTSTART;TZID=America/Boise:20250822T120000
DTEND;TZID=America/Boise:20250822T130000
DTSTAMP:20260423T112834
CREATED:20250709T153346Z
LAST-MODIFIED:20250709T153346Z
UID:10000388-1755864000-1755867600@ymcatvidaho.org
SUMMARY:Pop Up Power
DESCRIPTION:Join us for Pop-Up Power every Friday this summer from 12-1 p.m. at the West Boise YMCA!We’re turning up the heat this summer with a new kind of lunch break. Every Friday at noon\, we’re serving pop-up classes designed to energize your day and shake up your routine. Try something new\, revisit your favorites\, and have a fun and killer workout! Pop in and power up! Spots are limited\, so sign up today at https://tvfy.info/3ZY1HTD or via the YMCA360 app.
URL:https://ymcatvidaho.org/event/pop-up-power/2025-08-22/
LOCATION:West Boise YMCA\, 5959 N Discovery Way\, Boise\, ID\, 83713
CATEGORIES:West Boise YMCA
ATTACH;FMTTYPE=image/jpeg:https://ymcatvidaho.org/wp-content/uploads/2025/07/pop-up-power.jpg
END:VEVENT
BEGIN:VEVENT
DTSTART;VALUE=DATE:20250821
DTEND;VALUE=DATE:20250822
DTSTAMP:20260423T112834
CREATED:20250421T162412Z
LAST-MODIFIED:20250421T162412Z
UID:10000310-1755734400-1755820799@ymcatvidaho.org
SUMMARY:Y Camp Availability
DESCRIPTION:Y Camp is available for private groups\, rentals\, retreats\, and more on this date. Contact us to learn how you can reserve your own camp adventure!
URL:https://ymcatvidaho.org/event/y-camp-availability-37/
LOCATION:YMCA Camp at Horsethief Reservoir\, 301 Horsethief Rd\, Cascade\, 83611
CATEGORIES:Retreats & Events
ATTACH;FMTTYPE=image/png:https://ymcatvidaho.org/wp-content/uploads/2025/04/5.png
END:VEVENT
BEGIN:VEVENT
DTSTART;TZID=America/Boise:20250820T110000
DTEND;TZID=America/Boise:20250820T130000
DTSTAMP:20260423T112834
CREATED:20250709T155841Z
LAST-MODIFIED:20250709T155841Z
UID:10000391-1755687600-1755694800@ymcatvidaho.org
SUMMARY:Y Talks: Healing Yourself and the Planet with your Plate
DESCRIPTION:Presented by: Mark Masarik and Ellen Bush \nThis workshop will briefly address our current climate challenge\, review existing practical solutions to help reverse global warming\, re-affirm why plant-rich eating is great for your health\, present why plant-rich eating is super-healthy for the planet. (It’s the number 4 solution to reverse global warming.) and provide tips on planning\, preparation\, and protein sources for you to increase your plant rich meals.  Stick around for after the presentation and create your own lunch plate with already prepared plant-rich offerings. \nWe hope you join us!
URL:https://ymcatvidaho.org/event/y-talks-healing-yourself-and-the-planet-with-your-plate/
LOCATION:Y Community Hub\, 805 W Franklin Street\, Boise\, ID\, 83702\, United States
CATEGORIES:ForeverWell (55+),Y Community Hub
ATTACH;FMTTYPE=image/png:https://ymcatvidaho.org/wp-content/uploads/2025/07/Y-Talks.png
END:VEVENT
BEGIN:VEVENT
DTSTART;VALUE=DATE:20250820
DTEND;VALUE=DATE:20250821
DTSTAMP:20260423T112834
CREATED:20250421T162306Z
LAST-MODIFIED:20250421T162306Z
UID:10000309-1755648000-1755734399@ymcatvidaho.org
SUMMARY:Y Camp Availability
DESCRIPTION:Y Camp is available for private groups\, rentals\, retreats\, and more on this date. Contact us to learn how you can reserve your own camp adventure!
URL:https://ymcatvidaho.org/event/y-camp-availability-36/
LOCATION:YMCA Camp at Horsethief Reservoir\, 301 Horsethief Rd\, Cascade\, 83611
CATEGORIES:Retreats & Events
ATTACH;FMTTYPE=image/png:https://ymcatvidaho.org/wp-content/uploads/2025/04/6.png
END:VEVENT
BEGIN:VEVENT
DTSTART;VALUE=DATE:20250819
DTEND;VALUE=DATE:20250820
DTSTAMP:20260423T112834
CREATED:20250421T162200Z
LAST-MODIFIED:20250421T162200Z
UID:10000308-1755561600-1755647999@ymcatvidaho.org
SUMMARY:Y Camp Availability
DESCRIPTION:Y Camp is available for private groups\, rentals\, retreats\, and more on this date. Contact us to learn how you can reserve your own camp adventure!
URL:https://ymcatvidaho.org/event/y-camp-availability-35/
LOCATION:YMCA Camp at Horsethief Reservoir\, 301 Horsethief Rd\, Cascade\, 83611
CATEGORIES:Retreats & Events
ATTACH;FMTTYPE=image/png:https://ymcatvidaho.org/wp-content/uploads/2025/04/7.png
END:VEVENT
BEGIN:VEVENT
DTSTART;VALUE=DATE:20250818
DTEND;VALUE=DATE:20250819
DTSTAMP:20260423T112834
CREATED:20250421T162106Z
LAST-MODIFIED:20250421T162106Z
UID:10000307-1755475200-1755561599@ymcatvidaho.org
SUMMARY:Y Camp Availability
DESCRIPTION:Y Camp is available for private groups\, rentals\, retreats\, and more on this date. Contact us to learn how you can reserve your own camp adventure!
URL:https://ymcatvidaho.org/event/y-camp-availability-34/
LOCATION:YMCA Camp at Horsethief Reservoir\, 301 Horsethief Rd\, Cascade\, 83611
CATEGORIES:Retreats & Events
ATTACH;FMTTYPE=image/png:https://ymcatvidaho.org/wp-content/uploads/2025/04/1.png
END:VEVENT
BEGIN:VEVENT
DTSTART;VALUE=DATE:20250817
DTEND;VALUE=DATE:20250818
DTSTAMP:20260423T112834
CREATED:20250421T162005Z
LAST-MODIFIED:20250421T162005Z
UID:10000306-1755388800-1755475199@ymcatvidaho.org
SUMMARY:Y Camp Availability
DESCRIPTION:Y Camp is available for private groups\, rentals\, retreats\, and more on this date. Contact us to learn how you can reserve your own camp adventure!
URL:https://ymcatvidaho.org/event/y-camp-availability-33/
LOCATION:YMCA Camp at Horsethief Reservoir\, 301 Horsethief Rd\, Cascade\, 83611
CATEGORIES:Retreats & Events
ATTACH;FMTTYPE=image/png:https://ymcatvidaho.org/wp-content/uploads/2025/04/2.png
END:VEVENT
BEGIN:VEVENT
DTSTART;VALUE=DATE:20250816
DTEND;VALUE=DATE:20250817
DTSTAMP:20260423T112834
CREATED:20250421T161850Z
LAST-MODIFIED:20250421T161850Z
UID:10000305-1755302400-1755388799@ymcatvidaho.org
SUMMARY:Y Camp Availability
DESCRIPTION:Y Camp is available for private groups\, rentals\, retreats\, and more on this date. Contact us to learn how you can reserve your own camp adventure!
URL:https://ymcatvidaho.org/event/y-camp-availability-32/
LOCATION:YMCA Camp at Horsethief Reservoir\, 301 Horsethief Rd\, Cascade\, 83611
CATEGORIES:Retreats & Events
ATTACH;FMTTYPE=image/png:https://ymcatvidaho.org/wp-content/uploads/2025/04/3.png
END:VEVENT
BEGIN:VEVENT
DTSTART;TZID=America/Boise:20250815T180000
DTEND;TZID=America/Boise:20250815T200000
DTSTAMP:20260423T112834
CREATED:20250517T025428Z
LAST-MODIFIED:20250517T025428Z
UID:10000368-1755280800-1755288000@ymcatvidaho.org
SUMMARY:Family Cornhole Tournament
DESCRIPTION:Team up for some friendly competition in a fun-filled family cornhole showdown! All ages and skill levels welcome. \nJoin us Friday\, August 15\, from 6-8 PM at the Downtown Boise YMCA. Register here!
URL:https://ymcatvidaho.org/event/family-cornhole-tournament/
LOCATION:Downtown Boise YMCA\, 1050 W State St\, Boise\, Boise\, ID\, 83702
CATEGORIES:Downtown Boise YMCA
ATTACH;FMTTYPE=image/png:https://ymcatvidaho.org/wp-content/uploads/2025/05/Family-Cornhole-Tournament-Downtown-2.png
END:VEVENT
BEGIN:VEVENT
DTSTART;VALUE=DATE:20250815
DTEND;VALUE=DATE:20250816
DTSTAMP:20260423T112834
CREATED:20250421T161736Z
LAST-MODIFIED:20250421T161736Z
UID:10000304-1755216000-1755302399@ymcatvidaho.org
SUMMARY:Y Camp Availability
DESCRIPTION:Y Camp is available for private groups\, rentals\, retreats\, and more on this date. Contact us to learn how you can reserve your own camp adventure!
URL:https://ymcatvidaho.org/event/y-camp-availability-31/
LOCATION:YMCA Camp at Horsethief Reservoir\, 301 Horsethief Rd\, Cascade\, 83611
CATEGORIES:Retreats & Events
ATTACH;FMTTYPE=image/png:https://ymcatvidaho.org/wp-content/uploads/2025/04/5.png
END:VEVENT
BEGIN:VEVENT
DTSTART;VALUE=DATE:20250814
DTEND;VALUE=DATE:20250815
DTSTAMP:20260423T112834
CREATED:20250421T161627Z
LAST-MODIFIED:20250421T161627Z
UID:10000303-1755129600-1755215999@ymcatvidaho.org
SUMMARY:Y Camp Availability
DESCRIPTION:Y Camp is available for private groups\, rentals\, retreats\, and more on this date. Contact us to learn how you can reserve your own camp adventure!
URL:https://ymcatvidaho.org/event/y-camp-availability-30/
LOCATION:YMCA Camp at Horsethief Reservoir\, 301 Horsethief Rd\, Cascade\, 83611
CATEGORIES:Retreats & Events
ATTACH;FMTTYPE=image/png:https://ymcatvidaho.org/wp-content/uploads/2025/04/6.png
END:VEVENT
END:VCALENDAR